BEGIN:VCALENDAR
VERSION:2.0
PRODID:-//wp-events-plugin.com//7.0.5//EN
TZID:America/Los_Angeles
X-WR-TIMEZONE:America/Los_Angeles
BEGIN:VEVENT
UID:691@onc-pdx.org
DTSTART;TZID=America/Los_Angeles:20200303T183000
DTEND;TZID=America/Los_Angeles:20200303T210000
DTSTAMP:20200229T061249Z
URL:https://onc-pdx.org/events/monthly-member-meeting-7/
SUMMARY:Monthly Member Meeting
DESCRIPTION:Steve Levy: Circuit of Mont BlancFlyer at: https://onc-pdx.org/
 wp-content/uploads/2020/02/Mar-20-Program-flier.pdfWhen:  Tuesday\, March
  3Location: Lucky Labrador Brewing Company\, 1945 NW Quimby St.\, Portland
 6:30 p.m. Social Time7:30  Program: Steve Levy: Circult of Mont BlancFood
 /Beverages available $\n
END:VEVENT
BEGIN:VTIMEZONE
TZID:America/Los_Angeles
X-LIC-LOCATION:America/Los_Angeles
BEGIN:STANDARD
DTSTART:20191103T010000
TZOFFSETFROM:-0700
TZOFFSETTO:-0800
TZNAME:PST
END:STANDARD
END:VTIMEZONE
END:VCALENDAR