BEGIN:VCALENDAR
VERSION:2.0
PRODID:-//wp-events-plugin.com//7.0.5//EN
TZID:America/Los_Angeles
X-WR-TIMEZONE:America/Los_Angeles
BEGIN:VEVENT
UID:1292@onc-pdx.org
DTSTART;TZID=America/Los_Angeles:20251014T183000
DTEND;TZID=America/Los_Angeles:20251014T210000
DTSTAMP:20251007T152556Z
URL:https://onc-pdx.org/events/monthly-meeting-annual-overnight-trips-extr
 avaganza/
SUMMARY:Monthly Meeting - Annual Overnight Trips Extravaganza
DESCRIPTION:\n\n\nFabulous Trips Coming Your Way\n\nWhen: Tuesday Oct. 14\,
  6:30pm – 9:00pm Where: Multnomah Arts Center\, 7688 SW Capitol Hwy.Room
  change: This month we are in the Gymnasium (Rm. 16) - see map belowCan't 
 be there? Zoom link to be sent to members by email.\n\n\n 6:30 pm: Potluck
 . Bring a dish to share\, eating utensils\, and a non-alcoholic drink if y
 ou wish 7:00 pm: Short Club Meeting followed by: "Fabulous Trips Coming Yo
 ur Way: An Overview of the 2026 Overnight Trips" \n\n About the program: \
 n\n The Club’s fabulous Trips Extravaganza will be on Tuesday\, October 
 14th\, at 7pm as part of the monthly meeting. The 2026 slate of overnight 
 trips ranges from ever-popular trips such as Sunriver\, the Ochocos (three
 \, count them\, three trips to the Ochocos!)\, Anthony Lakes\, Camp Sherma
 n\, and Mt. Rainier. The lineup includes a couple trips that are not new t
 o the Club but haven’t been offered in a few years: Truckee/Lake Tahoe a
 nd the Alpine Lakes area near Leavenworth. Sun Valley is on the docket twi
 ce\, and folks will have the opportunity to go to Mt. Adams\, the yurts ne
 ar Sisters\, and the Rendezvous Huts in Methow. Choices—it’s all about
  choices\, and we’ve got them aplenty! Featured this year is a trip for 
 30 folks to the La Grande area. Come to the Extravaganza and hear Ken Bark
 er expound on the virtues of this large group adventure to Eastern Oregon!
  Creating larger trips\, with stays in motels\, creates more opportunity f
 or Club members to enjoy our beloved winter sport AND meet more Club membe
 rs. Can’t go wrong with that. These trips are made possible by dedicated
  Club leaders who love to go\, go\, go in the snow\, snow\, snow. A few ne
 w leaders join the roster this year\, thus building the ranks of trip lead
 ers and ensuring future overnight trips continue to offer a variety of opt
 ions. Kudos to all of them! For a preview\, you can check out the full lin
 e-up here: https://onc-pdx.org/overnight-trips-2026-ski-season/ By now you
  know that sign-ups for trips will change this year as we’re shifting to
  a lottery-style sign-up. Each membership will be given a randomly drawn n
 umber and sign up time slot. They can use this time slot on Sunday\, Octob
 er 19th to select one trip of their choosing or opt to be on a waitlist. A
 ll remaining trips will be offered on a first come first served basis foll
 owing the lottery process. Join us on Tuesday\, October 14th at the Multno
 mah Arts Center to hear about all of these trips and learn your sign-up ti
 me slot (or wait to receive the information via email on the 15th). You ma
 y even win a door prize! \n\n Hope to see you in person or online! \n\n\n\
 n\n\n\n\n\n\n\n\n
CATEGORIES:Meeting
END:VEVENT
BEGIN:VTIMEZONE
TZID:America/Los_Angeles
X-LIC-LOCATION:America/Los_Angeles
BEGIN:DAYLIGHT
DTSTART:20250309T030000
TZOFFSETFROM:-0800
TZOFFSETTO:-0700
TZNAME:PDT
END:DAYLIGHT
END:VTIMEZONE
END:VCALENDAR