BEGIN:VCALENDAR
VERSION:2.0
PRODID:-//wp-events-plugin.com//7.0.5//EN
TZID:America/Los_Angeles
X-WR-TIMEZONE:America/Los_Angeles
BEGIN:VEVENT
UID:759@onc-pdx.org
DTSTART;TZID=America/Los_Angeles:20200915T090000
DTEND;TZID=America/Los_Angeles:20200915T110000
DTSTAMP:20200724T215657Z
URL:https://onc-pdx.org/events/monthly-board-meeting-2/
SUMMARY:Monthly Board Meeting
DESCRIPTION:
END:VEVENT
BEGIN:VTIMEZONE
TZID:America/Los_Angeles
X-LIC-LOCATION:America/Los_Angeles
BEGIN:DAYLIGHT
DTSTART:20200308T030000
TZOFFSETFROM:-0800
TZOFFSETTO:-0700
TZNAME:PDT
END:DAYLIGHT
END:VTIMEZONE
END:VCALENDAR