BEGIN:VCALENDAR
VERSION:2.0
PRODID:-//wp-events-plugin.com//7.0.5//EN
TZID:America/Los_Angeles
X-WR-TIMEZONE:America/Los_Angeles
BEGIN:VEVENT
UID:780@onc-pdx.org
DTSTART;TZID=America/Los_Angeles;VALUE=DATE:20210115
DTEND;TZID=America/Los_Angeles;VALUE=DATE:20210119
DTSTAMP:20201012T133617Z
URL:https://onc-pdx.org/events/mlk-weekend-at-lake-creek-lodge/
SUMMARY:MLK Weekend at Lake Creek Lodge
DESCRIPTION:Camp Sherman\, OR\n&nbsp\;Jan. 15 - 18\, Fri - Mon\nAll Ability
  Ski\nHalfway between Santiam Pass and Sisters\, the very popular Lake Cre
 ek Lodge boasts quaint\, rustic cabins paneled in knotty pine\, fireplaces
 \, full kitchens\, a creek coursing through the grounds\, and the ideal am
 bience for a xc ski holiday. &nbsp\; Ski options are many -- Santiam Pass\
 , Mt. Bachelor area\, Maxwell Sno-Park\, Tam MacArthur Rim\, and if we're 
 lucky\, right out the door of our cabins.&nbsp\; Check out the website at 
 www.lakecreeklodge.com\n\nThe&nbsp\; trip&nbsp\; has been re-structured to
  allow people to participate within their own bubble during this COVID-19 
 era.&nbsp\; Cabins accommodating 2\, 4\, and 4 have been reserved\, along 
 with one larger cabin. Those interested should\, if possible\, attempt to 
 arrange their own 4-person (2 couple or 1 couple and 2 singles) bubble. Si
 ngles may also apply\, but may not be able to participate\, depending on t
 he structure of sign-ups.&nbsp\; For example\, we might have 2 singles in 
 a cabin for 4 if the trip is under-enrolled\, provided those individuals a
 re in agreement.&nbsp\; Those applying should understand the need for flex
 ibility as we try to keep our overnight trips functioning and keep people 
 safe.&nbsp\; The order of sign-up might not dictate who can participate.\n
 \nTrip limit:&nbsp\; 15 participants including trip leader.\nCost: $180/me
 mber\, per person.&nbsp\; Includes 3 nights lodging\nTravel miles:&nbsp\; 
 300 miles roundtrip from Portland plus excursions to trailheads.\nTrip lea
 der:&nbsp\; Steve Levy\, slevy@pacifier.com
CATEGORIES:Cross Country Ski
END:VEVENT
BEGIN:VTIMEZONE
TZID:America/Los_Angeles
X-LIC-LOCATION:America/Los_Angeles
BEGIN:STANDARD
DTSTART:20201101T010000
TZOFFSETFROM:-0700
TZOFFSETTO:-0800
TZNAME:PST
END:STANDARD
END:VTIMEZONE
END:VCALENDAR