BEGIN:VCALENDAR
VERSION:2.0
PRODID:-//wp-events-plugin.com//7.0.5//EN
TZID:America/Los_Angeles
X-WR-TIMEZONE:America/Los_Angeles
BEGIN:VEVENT
UID:778@onc-pdx.org
DTSTART;TZID=America/Los_Angeles;VALUE=DATE:20220114
DTEND;TZID=America/Los_Angeles;VALUE=DATE:20220118
DTSTAMP:20211013T002324Z
URL:https://onc-pdx.org/events/mlk-weekend-at-camp-sherman/
SUMMARY:MLK Weekend at Camp Sherman
DESCRIPTION:Trip Rating: All Abilities Ski\nBasecamp:&nbsp\; Lake Creek Lod
 ge\n\nHalfway between Santiam Pass and Sisters\, the very popular Lake Cre
 ek Lodge at Camp Sherman boasts quaint\, rustic cabins paneled in knotty p
 ine\, fireplaces\, full kitchens\, a creek coursing through the grounds\, 
 and the ideal ambience for a XC ski holiday.&nbsp\; Check out the website 
 at www.lakecreeklodge.com.&nbsp\;&nbsp\;Ski options are many -- Santiam Pa
 ss\, Mt. Bachelor area\, Maxwell Sno-Park\, Tam MacArthur Rim\, and if we'
 re lucky\, right out the door of our cabins.\n\nWe'll carpool over on Frid
 ay\, have a traditional ski trip potluck dinner on Saturday\, with leftove
 rs and a slideshow on Sunday.&nbsp\; Separate rooms for couples/genders.\n
 \nTrip limit:&nbsp\; 16 participants\, including trip leader\nCost: $180/m
 ember\, per person.&nbsp\; Includes 3 nights lodging.&nbsp\; Excludes cost
  of travel and meals.\nTravel miles:&nbsp\; 300 miles roundtrip from Portl
 and plus excursions to trailheads.\nTrip leader:&nbsp\; Steve Levy\, slevy
 @pacifier.com\nCo-leader:&nbsp\; Rainer Hummel\, rainerpdx@gmail.com
CATEGORIES:Cross Country Ski
END:VEVENT
BEGIN:VTIMEZONE
TZID:America/Los_Angeles
X-LIC-LOCATION:America/Los_Angeles
BEGIN:STANDARD
DTSTART:20211107T010000
TZOFFSETFROM:-0700
TZOFFSETTO:-0800
TZNAME:PST
END:STANDARD
END:VTIMEZONE
END:VCALENDAR