BEGIN:VCALENDAR
VERSION:2.0
PRODID:-//wp-events-plugin.com//7.0.5//EN
TZID:America/Los_Angeles
X-WR-TIMEZONE:America/Los_Angeles
BEGIN:VEVENT
UID:948@onc-pdx.org
DTSTART;TZID=America/Los_Angeles;VALUE=DATE:20230113
DTEND;TZID=America/Los_Angeles;VALUE=DATE:20230117
DTSTAMP:20230105T144644Z
URL:https://onc-pdx.org/events/mlk-weekend-at-camp-sherman-2/
SUMMARY:MLK Weekend at Camp Sherman
DESCRIPTION:Camp Sherman\, OR\nJan. 13-16\, Fri-Mon\nAll Abilities Ski\n\nH
 alfway between Santiam Pass and Sisters\, the very popular Lake Creek Lodg
 e at Camp Sherman boasts quaint rustic cabins paneled in knotty pine\, fir
 eplaces\, full kitchens\, a creek coursing through the grounds\, and the i
 deal ambience for a XC ski holiday.&nbsp\; Check out the website at www.la
 kecreeklodge.com.&nbsp\;&nbsp\;\n\nSki options are many -- Santiam Pass\, 
 Mt. Bachelor area\, Maxwell Sno-Park\, Tam MacArthur Rim\, and if we're lu
 cky\, right out the door of our cabins.&nbsp\; Separate rooms for couples/
 genders.\n\nWe'll carpool over on Friday\, have a traditional ski trip pot
 luck dinner on Saturday\, with leftovers and a slideshow on Sunday.\n\nA f
 ew photos of some past trips\, click here.\n\nTrip limit:&nbsp\; 16 partic
 ipants\, including trip leader\nCost: $185/member\, per person.&nbsp\; Inc
 ludes 3 nights lodging.&nbsp\; Excludes cost of travel and meals.\nTravel 
 miles:&nbsp\; 300 miles round trip from Portland plus excursions to trailh
 eads.\nTrip leader:&nbsp\; Steve Levy\, slevy@pacifier.com\nCo-leader:&nbs
 p\; Rainer Hummel\, rainerpdx@gmail.com
CATEGORIES:Cross Country Ski
END:VEVENT
BEGIN:VTIMEZONE
TZID:America/Los_Angeles
X-LIC-LOCATION:America/Los_Angeles
BEGIN:STANDARD
DTSTART:20221106T010000
TZOFFSETFROM:-0700
TZOFFSETTO:-0800
TZNAME:PST
END:STANDARD
END:VTIMEZONE
END:VCALENDAR