BEGIN:VCALENDAR
VERSION:2.0
PRODID:-//wp-events-plugin.com//7.0.5//EN
TZID:America/Los_Angeles
X-WR-TIMEZONE:America/Los_Angeles
BEGIN:VEVENT
UID:110@onc-pdx.org
DTSTART;TZID=America/Los_Angeles;VALUE=DATE:20151228
DTEND;TZID=America/Los_Angeles;VALUE=DATE:20160103
DTSTAMP:20151014T142207Z
URL:https://onc-pdx.org/events/methow-valley-wa-new-years-ski/
SUMMARY:Methow Valley\, WA\, New Year’s Ski
DESCRIPTION:December 28–January 2\, Mon. – SatAll Ability Skate and Tra
 ck SkiMethow Valley is an outstanding\, unique area that is ideally suited
  for both classic track skiing and skate skiing. The Methow valley associa
 tion grooms over 200 kilometers of trail through the communities of Winthr
 op and Mazama. Trail elevations range from 2000 to 4000 feet. The snow con
 ditions and trail quality makes the Methow valley a skate skier's Mecca. T
 he recent fires in the area did NOT affect the Methow Valley and they are 
 ready for our visit!We’ll stay in luxury condominiums in Winthrop with f
 ull accommodations. Plan for potluck dinners that we prepare in the fully 
 equipped kitchens. Restaurants are always an option and are within skiing 
 distance along with grocery and convenience stores.If you have considered 
 learning to skate ski\, lessons are available at Sun Mountain and in Mazam
 a. In the past\, several participants liked their new-found skill so much 
 they decided to keep the rented skate skis for the entire trip. Speaking o
 f skating\, there is even an ice skating rink in town.Trip limit: 12 parti
 cipants (including leader)Cost: $250 per person\, includes five nights lod
 ging ($57-76 groomed trail pass not included).Sign up at the Overnight Tri
 p Extravaganza in October. Afterwards\, you may sign-up on the ONC-PDX web
 site\, or send your ONC-PDX Overnight Tour application with check for $250
  payable to ONC-Portland Chapter\, to the trip leader\, Mike Faden. For mo
 re info email Mike at mikefaden@gmail.com or call 503 284 6315.
CATEGORIES:Cross Country Ski,Skate Ski
LOCATION:\, \, 
X-APPLE-STRUCTURED-LOCATION;VALUE=URI;X-ADDRESS=\, ;X-APPLE-RADIUS=100;X-TI
 TLE=:geo:0,0
END:VEVENT
BEGIN:VTIMEZONE
TZID:America/Los_Angeles
X-LIC-LOCATION:America/Los_Angeles
BEGIN:STANDARD
DTSTART:20151101T010000
TZOFFSETFROM:-0700
TZOFFSETTO:-0800
TZNAME:PST
END:STANDARD
END:VTIMEZONE
END:VCALENDAR