BEGIN:VCALENDAR
VERSION:2.0
PRODID:-//wp-events-plugin.com//7.0.5//EN
TZID:America/Los_Angeles
X-WR-TIMEZONE:America/Los_Angeles
BEGIN:VEVENT
UID:779@onc-pdx.org
DTSTART;TZID=America/Los_Angeles;VALUE=DATE:20201227
DTEND;TZID=America/Los_Angeles;VALUE=DATE:20210102
DTSTAMP:20210406T134002Z
URL:https://onc-pdx.org/events/methow-valley-new-years/
SUMMARY:Methow Valley New Year’s - Cancelled
DESCRIPTION:Winthrop\, WA\nDec. 27 - Jan. 1\, Sun - Fri\nAll Abilities Clas
 sic and Skate Ski on Groomed Trails\n\nMethow Valley is an outstanding\, u
 nique area that is ideally suited for both classic track skiing and skate 
 skiing. The Methow Valley Association grooms over 200 kilometers of trail 
 through the communities of Winthrop and Mazama. Trail elevations range fro
 m 2000 to 4000 feet. The snow conditions and trail quality make the Methow
  Valley a classic and skate skiers Mecca.&nbsp\;\n\nWe’ll stay in two lu
 xury condominiums in Winthrop with full accommodations. Plan for dinners t
 hat we prepare in the fully equipped kitchens. Restaurants are always an o
 ption and are within skiing or walking distance\, along with grocery and c
 onvenience stores. If you have considered learning to skate ski\, lessons 
 are available at Sun Mountain and in Mazama. In the past\, several partici
 pants liked their newfound skill so much they decided to keep the rented s
 kate skis for the entire trip. Speaking of skating\, there is even an ice 
 skating rink in town.\n\nIf online signup (in October 2020) shows the trip
  as full\, please sign up for the waitlist. There are almost always severa
 l cancellations so chances are very good you will be able to get on the tr
 ip.&nbsp\;Ring in the New Year’s in Winthrop!\n\nTrip limit:&nbsp\; 10 p
 articipants including trip leader.\nCost: $310/member\, per person.&nbsp\;
  Includes 5 nights lodging.&nbsp\; Groomed trail pass not included (approx
 .&nbsp\; $84 for four days\, 2020 season).\nTravel miles:&nbsp\; 800 miles
  roundtrip from Portland plus excursions to trailheads.\nTrip leader:&nbsp
 \; Ted Scheinman\, tedskier@gmail.com
CATEGORIES:Cross Country Ski
END:VEVENT
BEGIN:VTIMEZONE
TZID:America/Los_Angeles
X-LIC-LOCATION:America/Los_Angeles
BEGIN:STANDARD
DTSTART:20201101T010000
TZOFFSETFROM:-0700
TZOFFSETTO:-0800
TZNAME:PST
END:STANDARD
END:VTIMEZONE
END:VCALENDAR