BEGIN:VCALENDAR
VERSION:2.0
PRODID:-//wp-events-plugin.com//7.0.5//EN
TZID:America/Los_Angeles
X-WR-TIMEZONE:America/Los_Angeles
BEGIN:VEVENT
UID:661@onc-pdx.org
DTSTART;TZID=America/Los_Angeles;VALUE=DATE:20200229
DTEND;TZID=America/Los_Angeles;VALUE=DATE:20200306
DTSTAMP:20191227T221602Z
URL:https://onc-pdx.org/events/methow-valley-leap-year/
SUMMARY:Methow Valley Leap Year
DESCRIPTION:Saturday\, Feb. 29 thru Thursday\, Mar. 5Okanogan\, WA and Wint
 hrop\, WAAll levels ski on groomed trailsWe will stay our first night in O
 kanogan\, WA at the Quality Inn. Then we will stay the rest of our stay th
 e River Run Inn Guest House. While at the River Run Inn we will share meal
 s and cooking and clean up.&nbsp\; With 200 KM of Groomed trails you can f
 ind trails for any ability. Trails passes cost $24 per day. Rental equipme
 nt is available. Shared Car Pool costs.Trip limit:&nbsp\; 12 participants 
 including trip leaders.Cost: $270/member\, per person.&nbsp\; Includes 5 n
 ights lodging.Carpool miles:&nbsp\; 800 miles roundtrip from Portland plus
  excursions to trailheads.Trip Leaders:&nbsp\; Ken and Debby Wenzel\, skiw
 enzel@hotmail.com
CATEGORIES:Cross Country Ski
END:VEVENT
BEGIN:VTIMEZONE
TZID:America/Los_Angeles
X-LIC-LOCATION:America/Los_Angeles
BEGIN:STANDARD
DTSTART:20191103T010000
TZOFFSETFROM:-0700
TZOFFSETTO:-0800
TZNAME:PST
END:STANDARD
END:VTIMEZONE
END:VCALENDAR