BEGIN:VCALENDAR
VERSION:2.0
PRODID:-//wp-events-plugin.com//7.0.5//EN
TZID:America/Los_Angeles
X-WR-TIMEZONE:America/Los_Angeles
BEGIN:VEVENT
UID:21@onc-pdx.org
DTSTART;TZID=America/Los_Angeles;VALUE=DATE:20150208
DTEND;TZID=America/Los_Angeles;VALUE=DATE:20150214
DTSTAMP:20150206T002428Z
URL:https://onc-pdx.org/events/methow-valley-groomed-trail-wonderland-2/
SUMMARY:Methow Valley -- Groomed Trail Wonderland
DESCRIPTION:Methow Valley\, WA—Groomed Trail WonderlandMethow Valley is a
 n outstanding\, unique area that is ideally suited for both classic track 
 skiing and skate skiing. The Methow valley association grooms over 200 kil
 ometers of trail through the communities of Winthrop and Mazama. Trail ele
 vations range from 2000 to 4000 feet. The snow conditions and trail qualit
 y makes the Methow valley a skate skiers Mecca.We’ll stay in luxury cond
 ominiums in Winthrop with full accommodations. Plan for potluck dinners th
 at we prepare in the fully equipped kitchens. Restaurants are always an op
 tion and are within skiing distance along with grocery and convenience sto
 res.If you have considered learning to skate ski\, lessons are available. 
 Last year several participants liked their new found skill so much they de
 cided to keep the rented skate skis for the entire trip. Speaking of skati
 ng\, there is even an ice skating rink in town.Trip limit: 12 participants
 \, including the leaderCost: $230 per person\; you must be a current ONC m
 ember before signing up for this trip. Includes five nights lodging ($57 t
 o $76 groomed trail pass cost not included).Contact the leader to confirm 
 space is available\, then send your ONC-PDx overnight tour application and
  $230 check payable to ONC-Portland Chapter to the trip leader: Sam Digard
 \, 133 SE 283rd\, Camas\, WA 98607. For more info email Sam 360 910-1714 s
 am.digard@gmail.com. 
CATEGORIES:Cross Country Ski,Skate Ski
END:VEVENT
BEGIN:VTIMEZONE
TZID:America/Los_Angeles
X-LIC-LOCATION:America/Los_Angeles
BEGIN:STANDARD
DTSTART:20141102T010000
TZOFFSETFROM:-0700
TZOFFSETTO:-0800
TZNAME:PST
END:STANDARD
END:VTIMEZONE
END:VCALENDAR