BEGIN:VCALENDAR
VERSION:2.0
PRODID:-//wp-events-plugin.com//7.0.5//EN
TZID:America/Los_Angeles
X-WR-TIMEZONE:America/Los_Angeles
BEGIN:VEVENT
UID:1161@onc-pdx.org
DTSTART;TZID=America/Los_Angeles;VALUE=DATE:20250105
DTEND;TZID=America/Los_Angeles;VALUE=DATE:20250112
DTSTAMP:20241118T131407Z
URL:https://onc-pdx.org/events/methow-rendevous-huts-2025/
SUMMARY:Methow Rendezvous Huts Plus Mazama Trailside Cabin
DESCRIPTION:Methow Valley\, WA\nJanuary 5 - 11\, 2025\, Sun-Sat\nIntermedia
 te - Advanced\n\nThis trip is for Intermediate and Advanced skiers\, class
 ic and/or skate skiing\, and the terrain is on groomed trails within the M
 ethow Trails system.\n\nIf you enjoy Nordic skiing on hills\, seriously ep
 ic and fantastic views\, the best-available higher elevation snow conditio
 ns\, and unique off-grid rustic huts - combined with 2 days in a trailside
  cabin near the Mazama store and restaurant – then this may be your drea
 m trip to Methow!  Participants must be able to ski uphill and downhill o
 n groomed trails gaining 1000+ feet of elevation\, and be able to comforta
 bly negotiate speed and turns on groomed downhills.\n\nWhile skiing to the
  Rendezvous Huts\, carry only a small day pack\, and all additional gear a
 nd food will be hauled to the huts for us by the tour operator.  Particip
 ants must be comfortable with very cozy shared co-ed accommodations\, mini
 mal privacy and no running water for 3 nights.  Please review the hut and
  house accommodations carefully - the sleeping space is cozy on this trip.
   The food plan for the 3 days in the huts will be centrally organized by
  our group ahead of time for hauling in\, and an initial food fund has bee
 n included in this trip’s base cost.  Next\, while we are at the cabin 
 in Mazama\, our meals and dining options will be individually decided - co
 oking and/or dining out as desired. Read the details about the huts here.
   A pre-trip Zoom meeting will be held to discuss the trip\, and carpools
  are encouraged.\n\nItinerary:\n\n 	Sunday Jan. 5 is a travel day\, allow 
 6-10 hours (depending on weather and road conditions) to drive up to Winth
 rop\, Washington\, where we will stay one night.\n 	Monday through Wednesd
 ay we ski in and stay sequentially for 3 nights at 3 distinct huts - - Cas
 sal Hut\, Rendezvous Hut and Heifer Hut\, all located within the incredibl
 y well-maintained Methow groomed trail system. Some backcountry terrain is
  also available. The huts are very rustic - some water is hauled in and if
  needed we will melt snow for more water\, sleep in bunks\, and keep warm 
 by the wood burning stove.\n 	Thursday - Friday we stay in a 3 bedroom cab
 in with kitchen\, showers\, beds\, and with the Mazama trail system\, groc
 eries\, and a restaurant all nearby walking distance. Ski and relax as muc
 h as desired for two days in the beautiful Methow Valley.\n 	Saturday - dr
 ive home\, or on to your own next adventure.\n\nIncluded in cost:\n\n 	Acc
 ommodations for Jan. 5 at Methow River Lodge &amp\; Cabins in Winthrop\, J
 an. 6-8 in the Rendezvous Ski Huts\, and Jan. 9-10 nights in the trailside
  cabin in Mazama.\n 	Freight hauling of all food and gear to all 3 huts\n 
 	Basic food supply for breakfasts and dinners to be hauled in to huts\n\nN
 ot included in cost: Methow Trail passes\, food while in Winthrop and Maza
 ma\, ski gear.\n\nTrip limit:  8 participants\, including leader and spou
 se (Berkeley)\nCost:  $585 per person\nTravel miles:  From Portland\, 80
 0 miles round trip\, plus mileage to the ski areas\nTrip Leader:  Michele
  Barnett michele.barnett@gmail.com
CATEGORIES:Cross Country Ski,Skate Ski
END:VEVENT
BEGIN:VTIMEZONE
TZID:America/Los_Angeles
X-LIC-LOCATION:America/Los_Angeles
BEGIN:STANDARD
DTSTART:20241103T010000
TZOFFSETFROM:-0700
TZOFFSETTO:-0800
TZNAME:PST
END:STANDARD
END:VTIMEZONE
END:VCALENDAR