BEGIN:VCALENDAR
VERSION:2.0
PRODID:-//wp-events-plugin.com//7.0.5//EN
TZID:America/Los_Angeles
X-WR-TIMEZONE:America/Los_Angeles
BEGIN:VEVENT
UID:1254@onc-pdx.org
DTSTART;TZID=America/Los_Angeles;VALUE=DATE:20251228
DTEND;TZID=America/Los_Angeles;VALUE=DATE:20260103
DTSTAMP:20251209T210208Z
URL:https://onc-pdx.org/events/methow-new-years-2026/
SUMMARY:Methow New Year's
DESCRIPTION:Winthrop\, WA\nDec. 28\, 2025 - Jan. 2\, 2026\, Sun - Fri\nAll 
 Abilities Groomed Trails\n\nWashington’s Methow Valley is on the west sl
 ope of the North Cascades Range and features over 200 km of groomed trails
  for classic and skate skiing at all levels\, from riverside loops to stee
 p and strenuous climbs and descents. Enjoy four days of world-class Nordic
  skiing ranging from 2000 to 4000+ ft elevation. Lessons are available for
  classic and skate. Other options include fat tire biking if you are so in
 clined. The possibilities are endless with so much groomed terrain and (ty
 pically) great snow conditions.\n\nThe Cascade Condominiums are nicely app
 ortioned and equipped for our group of 12. Between the two condos (Arctic 
 Dream and Wildflower)\, we have two kitchens and 5 bathrooms. We have 4 do
 uble rooms for 4 couples and 2 twin rooms for 4 singles.\n\nIf the trip is
  full when you try to sign up\, please take a spot on the no-obligation wa
 itlist. There are almost always cancellations.\n\nTrip limit:  12 partici
 pants\nCost:  $405 per person\, not including meals\, travel or ski passe
 s ($28 - $32/day)\nTravel miles:  From Portland\, 800 miles round trip\, 
 plus mileage to the ski areas\nTrip Leader:  Laurel Dickie\, laureldickie
 @hotmail.com
CATEGORIES:Cross Country Ski,Skate Ski
END:VEVENT
BEGIN:VTIMEZONE
TZID:America/Los_Angeles
X-LIC-LOCATION:America/Los_Angeles
BEGIN:STANDARD
DTSTART:20251102T010000
TZOFFSETFROM:-0700
TZOFFSETTO:-0800
TZNAME:PST
END:STANDARD
END:VTIMEZONE
END:VCALENDAR