BEGIN:VCALENDAR
VERSION:2.0
PRODID:-//wp-events-plugin.com//7.0.5//EN
TZID:America/Los_Angeles
X-WR-TIMEZONE:America/Los_Angeles
BEGIN:VEVENT
UID:949@onc-pdx.org
DTSTART;TZID=America/Los_Angeles;VALUE=DATE:20230120
DTEND;TZID=America/Los_Angeles;VALUE=DATE:20230126
DTSTAMP:20221022T230514Z
URL:https://onc-pdx.org/events/methow-in-january-2/
SUMMARY:Methow in January
DESCRIPTION:Winthrop\, WA River Run Inn\nJan. 20-25\, Fri-Wed\nAll abilitie
 s skiing on 200 km of groomed trails in perfect snow and sun!\n\nSummer is
  nearly over\, so can skiing in the Methow Valley be far behind?&nbsp\; Rh
 etorical question.&nbsp\; Once again\, we will return to the River Run Inn
  Guest House for 5 nights and ski the extensive and perfectly groomed trai
 ls for 4 days in January.&nbsp\; There is something for everyone here–th
 e long\, flat valley floor that many like to skate\, the hills and views o
 f the Rendezvous area\, the varied loops around Sun Mountain Lodge\, 40km.
  of snowshoe trails\, an ice skating rink\, ski lessons\, and fat tire bik
 es for rent.&nbsp\; We are more likely to have dry snow and sunshine than 
 on our side of the Cascades\, and the grooming makes every day a good snow
  day.&nbsp\;\n\nWinthrop is a charming town that also offers food\, micro 
 brews\, art and books within ½ mile of our lodging.&nbsp\; We will stay i
 n the Guesthouse\, a lodge-like house with an adjacent pool\, convenient b
 ut minuscule hot tub\, and an institutional kitchen for the preparation of
  pot luck dinners.&nbsp\; There is a supermarket nearby for emergencies. W
 e will plan the next day’s activities each evening.&nbsp\;\n\nWhat to do
  about COVID-19 (last year we did pre-trip testing in addition to the waiv
 er) will be determined later.\n\nSome photos of a past trip\, click here.\
 n\n&nbsp\;Trip limit:&nbsp\; 11 participants\, including trip leader\nCost
 : $355 per member/person. Plus travel costs and trail passes. Includes 5 n
 ights lodging. Rooms are double occupancy with twin and queen beds. No Sno
 -park permits needed.&nbsp\;\nCarpool miles:&nbsp\; It is an 800 mile roun
 d trip (and worth the drive)\, plus excursions to trailheads\, so we will 
 carpool.&nbsp\;&nbsp\;\nTrip Leader: Elke Schoen\, elkeschoen@msn.com
CATEGORIES:Cross Country Ski,Skate Ski,Snowshoe
END:VEVENT
BEGIN:VTIMEZONE
TZID:America/Los_Angeles
X-LIC-LOCATION:America/Los_Angeles
BEGIN:STANDARD
DTSTART:20221106T010000
TZOFFSETFROM:-0700
TZOFFSETTO:-0800
TZNAME:PST
END:STANDARD
END:VTIMEZONE
END:VCALENDAR