BEGIN:VCALENDAR
VERSION:2.0
PRODID:-//wp-events-plugin.com//7.0.5//EN
TZID:America/Los_Angeles
X-WR-TIMEZONE:America/Los_Angeles
BEGIN:VEVENT
UID:833@onc-pdx.org
DTSTART;TZID=America/Los_Angeles;VALUE=DATE:20220202
DTEND;TZID=America/Los_Angeles;VALUE=DATE:20220207
DTSTAMP:20220111T015823Z
URL:https://onc-pdx.org/events/methow-in-february/
SUMMARY:Methow in February
DESCRIPTION:Trip Rating: All abilities skiing\nBasecamp:&nbsp\; Winthrop\, 
 WA\n\nONC skiers return to the beautiful Methow Valley over and over again
  for a simple reason\, the snow conditions and trail quality rarely disapp
 oint.&nbsp\; The Methow Trails Association grooms over 200 km of trails th
 rough the 2\,000’ Valley floor and into the adjacent hills and mountains
 \, with some trails reaching the 4\,000’ level.\n\nWe will travel to Win
 throp Washington on Tuesday\, February 2nd\, meeting at our two side-by-si
 de luxury condos for a casual evening planning session for the upcoming da
 ys.&nbsp\; Participants are responsible for their own dinner the first nig
 ht\, as well as breakfasts and lunches during our stay.&nbsp\; Dinners the
  following 3 nights will be potluck\, prepared in fully equipped kitchens.
 \n\nTypically\, skiers ski in groups of equal abilities.&nbsp\; Cars are n
 ecessary to get to the many different parts of the Valley that are availab
 le to skiers. We will make an attempt each evening to organize the followi
 ng day in a way that best matches skiers to their interests and abilities.
 &nbsp\;\n\nIf you have wanted to learn or brush up on your skate skiing sk
 ills\, lessons and ski rentals are available at Sun Mountain and Mazama.&n
 bsp\; And\, if you are inclined\, there is an ice skating rink in town.\n\
 nTrip limit:&nbsp\; 12 participants including trip leaders.\nCost: $230/me
 mber\, per person.&nbsp\; Includes 4 nights lodging.&nbsp\; Excludes cost 
 of travel and meals\, plus trail fees of about $25 per day per person or $
 63 per person for 3 days or more.&nbsp\;&nbsp\;\nCarpool miles:&nbsp\; abo
 ut 800 miles roundtrip from Portland plus excursions to trailheads.\nTrip 
 leaders: &nbsp\; Shannon and Steve Planchon\, shannon.planchon@gmail.com a
 nd scplanchon@gmail.com
CATEGORIES:Cross Country Ski
END:VEVENT
BEGIN:VTIMEZONE
TZID:America/Los_Angeles
X-LIC-LOCATION:America/Los_Angeles
BEGIN:STANDARD
DTSTART:20211107T010000
TZOFFSETFROM:-0700
TZOFFSETTO:-0800
TZNAME:PST
END:STANDARD
END:VTIMEZONE
END:VCALENDAR