BEGIN:VCALENDAR
VERSION:2.0
PRODID:-//wp-events-plugin.com//7.0.5//EN
TZID:America/Los_Angeles
X-WR-TIMEZONE:America/Los_Angeles
BEGIN:VEVENT
UID:959@onc-pdx.org
DTSTART;TZID=America/Los_Angeles;VALUE=DATE:20230223
DTEND;TZID=America/Los_Angeles;VALUE=DATE:20230301
DTSTAMP:20230105T210734Z
URL:https://onc-pdx.org/events/methow-in-february-2/
SUMMARY:Methow in February
DESCRIPTION:Winthrop\, WA&nbsp\;\nFeb. 23-28\, Thu-Tue\nAll Abilities Sprin
 g Skiing\n\nAfter the holiday weekend\, treat yourself to 4 full days of s
 kiing in Methow Valley\, WA.&nbsp\; Methow is North America’s largest cr
 oss country ski area with over 200 km (120 miles) of perfectly groomed tra
 ils.&nbsp\; You can enjoy classic and skate skiing trails with the beautif
 ul scenery of the surrounding hills as you play in the snow.&nbsp\; Warmin
 g huts along the trails provide a great place to warm up while enjoying yo
 ur lunch or a snack.&nbsp\; The area now also offers 40 km. of snowshoe tr
 ails and endless backcountry areas to explore\, for the adventure seekers.
 &nbsp\; Some trails allow fat tire bikes. They are available to rent by th
 e hour or full day at local shops.&nbsp\; You can also take a skate ski le
 sson.&nbsp\; There is something for everyone!&nbsp\;\n\nWe will be staying
  in side-by-side condos: Alpen Trails and Arctic Dream in Winthrop\, WA\, 
 and we've expanded into a third condo called Wildflower.&nbsp\; We will ga
 ther in the evening to share the tales of the day's adventures and make pl
 ans for the next day.&nbsp\; We will prepare and share wonderful potluck d
 inners with old and new friends.&nbsp\; Breakfast and lunches are on your 
 own.&nbsp\; There are restaurants and bakeries if you would like to sample
  the local gastronomic delights. There is also a grocery store for supplie
 s.&nbsp\;\n\nFor snowshoers a trail pass is $5 a day.&nbsp\; If you are 75
  or older you can obtain a free lifetime trail pass at the Methow trails o
 ffice!&nbsp\; Lucky you!&nbsp\;\n\nTo see photos of a past trip\, click he
 re.\n\nTrip limit:&nbsp\; 18 participants including trip leaders\; sleepin
 g arrangements are 4 doubles and 4 singles\nCost: $350/member\, per person
 .&nbsp\; Includes 5 nights lodging.&nbsp\; Excludes cost of travel and mea
 ls\, plus trail fees of about $24 per day per person or $72 per person for
  3 consecutive days or more.&nbsp\;&nbsp\;\nCarpool miles:&nbsp\; 800 mile
 s roundtrip from Portland plus excursions to trailheads.\nTrip leader:&nbs
 p\; Johanna Lovell\, joeielove@yahoo.com\nCo-Leader:&nbsp\; Tere Enburg\, 
 tereskier@gmail.com
CATEGORIES:Cross Country Ski,Skate Ski,Snowshoe
END:VEVENT
BEGIN:VTIMEZONE
TZID:America/Los_Angeles
X-LIC-LOCATION:America/Los_Angeles
BEGIN:STANDARD
DTSTART:20221106T010000
TZOFFSETFROM:-0700
TZOFFSETTO:-0800
TZNAME:PST
END:STANDARD
END:VTIMEZONE
END:VCALENDAR