BEGIN:VCALENDAR
VERSION:2.0
PRODID:-//wp-events-plugin.com//7.0.5//EN
TZID:America/Los_Angeles
X-WR-TIMEZONE:America/Los_Angeles
BEGIN:VEVENT
UID:645@onc-pdx.org
DTSTART;TZID=America/Los_Angeles;VALUE=DATE:20200208
DTEND;TZID=America/Los_Angeles;VALUE=DATE:20200214
DTSTAMP:20191016T023945Z
URL:https://onc-pdx.org/events/methow-february-ski-trip-2020/
SUMMARY:Methow February Ski Trip
DESCRIPTION:Saturday\, Feb. 8 thru Thursday\, Feb. 13Winthrop\, WAAll Abili
 ties Classic and Skate Ski on Groomed TrailsWhat happens between the Metho
 w New Year’s Trip and the Methow March trip? —the Methow February ski 
 trip\, of course!&nbsp\; One can never get enough of the Methow Valley.&nb
 sp\; We will glide across 200 km of reliably dry snow in sunshine and on t
 errain that is suitable for all skill levels.&nbsp\; We have our choice of
  rolling or hilly Sun Mountain loops\, the ﬂat valley ﬂoor\, the highe
 r\, more challenging Rendezvous Traverse\, or a short walk to town for cul
 tural or gastronomic pursuits.&nbsp\; Ski/skate lessons and equipment rent
 als are available\, and trails oﬀer warm rest stops for lunch.We will st
 ay at the River Run Inn Guest House\, a lodge-like house with enough room 
 for us all\, no bunks(!) and an institutional-size kitchen for potluck che
 fs.&nbsp\; Restaurants and a supermarket are available in town.&nbsp\; We 
 will discuss the next day’s plans each day at dinner.&nbsp\; The new man
 agement assures me that the pool and hot tub have been repaired since last
  year\, so bring a swimsuit…again.&nbsp\;Winthrop is an outdoor-oriented
  community in North Central Washington north of Lake Chelan\, a 400-mile d
 rive. We will carpool\, and riders should expect to pay the driver.&nbsp\;
  3-day ski passes cost $63\, an additional day is $25\, and daily snowshoe
  passes are $5.Trip limit:&nbsp\; 12 participants including trip leaders.C
 ost:&nbsp\; $235/member\, per person.&nbsp\; Includes 5 nights lodging.Car
 pool miles:&nbsp\; 800 miles roundtrip from Portland plus excursions to tr
 ailheads.Trip Leader:&nbsp\; Elke Schoen\, elkeschoen@msn.comCo-Leader:&nb
 sp\; Linda Wilson\, wilsonln@msn.com
CATEGORIES:Cross Country Ski
END:VEVENT
BEGIN:VTIMEZONE
TZID:America/Los_Angeles
X-LIC-LOCATION:America/Los_Angeles
BEGIN:STANDARD
DTSTART:20191103T010000
TZOFFSETFROM:-0700
TZOFFSETTO:-0800
TZNAME:PST
END:STANDARD
END:VTIMEZONE
END:VCALENDAR