BEGIN:VCALENDAR
VERSION:2.0
PRODID:-//wp-events-plugin.com//7.0.5//EN
TZID:America/Los_Angeles
X-WR-TIMEZONE:America/Los_Angeles
BEGIN:VEVENT
UID:808@onc-pdx.org
DTSTART;TZID=America/Los_Angeles:20210302T190000
DTEND;TZID=America/Los_Angeles:20210302T210000
DTSTAMP:20210216T060546Z
URL:https://onc-pdx.org/events/march-meeting-hiking-oregons-deserts/
SUMMARY:March Meeting: Hiking Oregon's Deserts
DESCRIPTION:ONC-PDX Monthly Meeting\nHiking Oregon's Deserts\n\nWhen: Tuesd
 ay March 2nd\, 7pm – 9pm. 7pm members share about skiing\, 7:30 pm progr
 am. \nWhere: Zoom! Members will receive the link by email\n\nPresenter: S
 teve Levy\n\nTitle: Hiking Oregon's Deserts\n\nThe Owyhee\, Leslie Gulch\,
  Steens Mountain\, Cottonwood Canyon\, John Day Country\, Jordan Craters 
 – the season to explore Oregon deserts is upon us. This timely program p
 resented by long-time Club member Steve Levy  will introduce us to many o
 f Oregon’s natural wonders as seen in the peak of spring and autumn sple
 ndor.\n\nProgram Flier (PDF)\n\n\n\n&nbsp\;
CATEGORIES:Meeting
END:VEVENT
BEGIN:VTIMEZONE
TZID:America/Los_Angeles
X-LIC-LOCATION:America/Los_Angeles
BEGIN:STANDARD
DTSTART:20201101T010000
TZOFFSETFROM:-0700
TZOFFSETTO:-0800
TZNAME:PST
END:STANDARD
END:VTIMEZONE
END:VCALENDAR