BEGIN:VCALENDAR
VERSION:2.0
PRODID:-//wp-events-plugin.com//7.0.5//EN
TZID:America/Los_Angeles
X-WR-TIMEZONE:America/Los_Angeles
BEGIN:VEVENT
UID:993@onc-pdx.org
DTSTART;TZID=America/Los_Angeles:20230205T080000
DTEND;TZID=America/Los_Angeles:20230205T170000
DTSTAMP:20221218T205959Z
URL:https://onc-pdx.org/events/marble-mt-snow-park-mt-saint-helens-sasquat
 ch-trail-day-tour/
SUMMARY:Marble Mt. Snow Park - Mt. Saint Helens - Sasquatch Trail Day Tour
DESCRIPTION:Description: Marble Mt. Snow Park - Mt. Saint Helens - Sasquatc
 h Trail\n\nSki Level: Intermediate - Advanced\n\nDate: Sunday\, February 5
 \, 2023\n\nMeeting Place &amp\; Time: Meet at Jantzen Beach Target East En
 d Parking Lot 8 AM\n\nTour Leader: Ken Wenzel\, skiwenzel@hotmail.com Cell
  - 503-729-6571&nbsp\; &nbsp\; Home Phone 503-297-2958
CATEGORIES:Cross Country Ski,Day Tours
END:VEVENT
BEGIN:VTIMEZONE
TZID:America/Los_Angeles
X-LIC-LOCATION:America/Los_Angeles
BEGIN:STANDARD
DTSTART:20221106T010000
TZOFFSETFROM:-0700
TZOFFSETTO:-0800
TZNAME:PST
END:STANDARD
END:VTIMEZONE
END:VCALENDAR