BEGIN:VCALENDAR
VERSION:2.0
PRODID:-//wp-events-plugin.com//7.0.5//EN
TZID:America/Los_Angeles
X-WR-TIMEZONE:America/Los_Angeles
BEGIN:VEVENT
UID:732@onc-pdx.org
DTSTART;TZID=America/Los_Angeles;VALUE=DATE:20200312
DTEND;TZID=America/Los_Angeles;VALUE=DATE:20200313
DTSTAMP:20200305T184758Z
URL:https://onc-pdx.org/events/marble-mountain-mt-st-helens/
SUMMARY:Marble Mountain - Mt. St. Helens
DESCRIPTION:We will choose the route out of the Marble Mtn. Snopark at St. 
 Helens based on snow conditions. If good we might do June Lake and Swift C
 reek. If challenging we will stick to road routes and go to Sasquatch Loop
 s. Skinny track skis are not appropriate.If conditions are poor on Mt St H
 elens\, we'll head to Mt. Hood.Call leader for details.Leader: Russ Pascoe
 \,  russ.bec@gmail.comcall or text 360-901-3411
CATEGORIES:Cross Country Ski
LOCATION:Salmon Creek Park & Ride\, 1112 NE 136th St\, Vancouver\, WA\, 986
 85\, United States
GEO:45.7201609;-122.65930249999997
X-APPLE-STRUCTURED-LOCATION;VALUE=URI;X-ADDRESS=1112 NE 136th St\, Vancouve
 r\, WA\, 98685\, United States;X-APPLE-RADIUS=100;X-TITLE=Salmon Creek Par
 k & Ride:geo:45.7201609,-122.65930249999997
END:VEVENT
BEGIN:VTIMEZONE
TZID:America/Los_Angeles
X-LIC-LOCATION:America/Los_Angeles
BEGIN:DAYLIGHT
DTSTART:20200308T030000
TZOFFSETFROM:-0800
TZOFFSETTO:-0700
TZNAME:PDT
END:DAYLIGHT
END:VTIMEZONE
END:VCALENDAR