BEGIN:VCALENDAR
VERSION:2.0
PRODID:-//wp-events-plugin.com//7.0.5//EN
TZID:America/Los_Angeles
X-WR-TIMEZONE:America/Los_Angeles
BEGIN:VEVENT
UID:799@onc-pdx.org
DTSTART;TZID=America/Los_Angeles;VALUE=DATE:20210401
DTEND;TZID=America/Los_Angeles;VALUE=DATE:20210402
DTSTAMP:20210330T145026Z
URL:https://onc-pdx.org/events/make-up-payment-page/
SUMMARY:Make Up Payment Page
DESCRIPTION:This page is used for extra online payments.&nbsp\; Typical use
  is when someone moves from the waitlist to being on a trip.&nbsp\; You wi
 ll be routed to Paypal for payment.&nbsp\; Payment can be made with a Payp
 al account or as a guest user with a credit card.&nbsp\; A confirmation em
 ail will be sent once your transaction is completed.
END:VEVENT
BEGIN:VTIMEZONE
TZID:America/Los_Angeles
X-LIC-LOCATION:America/Los_Angeles
BEGIN:DAYLIGHT
DTSTART:20210314T030000
TZOFFSETFROM:-0800
TZOFFSETTO:-0700
TZNAME:PDT
END:DAYLIGHT
END:VTIMEZONE
END:VCALENDAR