BEGIN:VCALENDAR
VERSION:2.0
PRODID:-//wp-events-plugin.com//7.0.5//EN
TZID:America/Los_Angeles
X-WR-TIMEZONE:America/Los_Angeles
BEGIN:VEVENT
UID:905@onc-pdx.org
DTSTART;TZID=America/Los_Angeles:20220212T080000
DTEND;TZID=America/Los_Angeles:20220212T170000
DTSTAMP:20220211T200412Z
URL:https://onc-pdx.org/events/lets-snowshoe-around-trillium-lake/
SUMMARY:Let's snowshoe around Trillium Lake!
DESCRIPTION:With this great weather\, let's snowshoe around Trillium Lake.\
 n\n&nbsp\;\n\nTrip Leader: Barbara Schulz\nContact Info: babrakadabra1@gma
 il.com\nMeeting Time: 8AM\nMeeting Place: public parking lot in Sandy. It
  is on Bruns avenue (take a right turn just past Otto's)\n\n&nbsp\;\n\n&nb
 sp\;
CATEGORIES:Day Tours,Snowshoe
LOCATION:Sandy Public Parking Lot\, 17573 Bruns Ave.\, Sandy\, OR\, 97055\,
  United States
X-APPLE-STRUCTURED-LOCATION;VALUE=URI;X-ADDRESS=17573 Bruns Ave.\, Sandy\, 
 OR\, 97055\, United States;X-APPLE-RADIUS=100;X-TITLE=Sandy Public Parking
  Lot:geo:0,0
END:VEVENT
BEGIN:VTIMEZONE
TZID:America/Los_Angeles
X-LIC-LOCATION:America/Los_Angeles
BEGIN:STANDARD
DTSTART:20211107T010000
TZOFFSETFROM:-0700
TZOFFSETTO:-0800
TZNAME:PST
END:STANDARD
END:VTIMEZONE
END:VCALENDAR