BEGIN:VCALENDAR
VERSION:2.0
PRODID:-//wp-events-plugin.com//7.0.5//EN
TZID:America/Los_Angeles
X-WR-TIMEZONE:America/Los_Angeles
BEGIN:VEVENT
UID:667@onc-pdx.org
DTSTART;TZID=America/Los_Angeles:20191027T120000
DTEND;TZID=America/Los_Angeles:20191027T150000
DTSTAMP:20191006T181703Z
URL:https://onc-pdx.org/events/leader-meeting-for-2019-2020-ski-season/
SUMMARY:Leader Meeting for 2019-2020 Ski Season
DESCRIPTION:This meeting is for trip leaders and co-leaders.&nbsp\; The pur
 pose of the meeting will be to help each other get ready for leading and c
 o-leading overnight trips this upcoming season\, with the key focus being 
 on discussing the various trip leader responsibilities that lead to fun\, 
 safe and accountable (the administrative tasks) trip outcomes.&nbsp\; If y
 ou want to get a preview of some of the topics that will be covered\, plea
 se check out the updated leadership handbook that can be found on ONC-PDX 
 website under the Members Only/Resources for Leaders tabs. We promise to m
 ake the meeting more fun than the reading experience\, including time for&
 nbsp\; leaders to share stories that will be helpful to others in the room
 .&nbsp\;Please RSVP to oncpdx.ontrip@gmail.com by October 15 so that we ca
 n get a good count for food ordering purposes.See you there!
CATEGORIES:Training
END:VEVENT
BEGIN:VTIMEZONE
TZID:America/Los_Angeles
X-LIC-LOCATION:America/Los_Angeles
BEGIN:DAYLIGHT
DTSTART:20190310T030000
TZOFFSETFROM:-0800
TZOFFSETTO:-0700
TZNAME:PDT
END:DAYLIGHT
END:VTIMEZONE
END:VCALENDAR