BEGIN:VCALENDAR
VERSION:2.0
PRODID:-//wp-events-plugin.com//7.0.5//EN
TZID:America/Los_Angeles
X-WR-TIMEZONE:America/Los_Angeles
BEGIN:VEVENT
UID:11@onc-pdx.org
DTSTART;TZID=America/Los_Angeles;VALUE=DATE:20150116
DTEND;TZID=America/Los_Angeles;VALUE=DATE:20150120
DTSTAMP:20141029T041302Z
URL:https://onc-pdx.org/events/lake-creek-lodge-camp-sherman/
SUMMARY:Lake Creek Lodge\, Camp Sherman\, OR
DESCRIPTION:Join us at Lake Creek Lodge for MLK Weekend.Halfway between San
 tiam Pass and Sisters\, the very popular Lake Creek Lodge boasts quaint\, 
 rustic cabins paneled in knotty pine\, fireplaces\, full kitchens\, a cree
 k coursing thru the grounds\, and the ideal ambience for a cross-country s
 ki holiday. Check out the website at www.lakecreeklodge.comWe’ll carpool
  over on Friday\, have a traditional ONC-PDX potluck dinner on Saturday\, 
 and perhaps head into Sisters for Sunday dinner. Ski options are many—Sa
 ntiam Pass\, Mt. Bachelor area\, Maxwell Sno-Park\, Tam MacArthur Rim\, an
 d if we’re lucky\, right out the door of our cabins.Trip limit: 16 parti
 cipants\, including the leaderCost: $164 per person\; you must be a curren
 t ONC member before signing up for this trip. This fee covers three nights
  of lodging.Contact leader for space availability.  Sign up by Dec 16Send
  an ONC-PDX overnight tour application and $164 check to trip leader: Stev
 e Levy\, 5441 SW Nebraska St.\, Portland\, OR 97221. For more info contact
  Steve 503 244-4262 slevy@pacifier.com. 
CATEGORIES:Backcountry Ski/Telemarking,Cross Country Ski
END:VEVENT
BEGIN:VTIMEZONE
TZID:America/Los_Angeles
X-LIC-LOCATION:America/Los_Angeles
BEGIN:STANDARD
DTSTART:20141102T010000
TZOFFSETFROM:-0700
TZOFFSETTO:-0800
TZNAME:PST
END:STANDARD
END:VTIMEZONE
END:VCALENDAR