BEGIN:VCALENDAR
VERSION:2.0
PRODID:-//wp-events-plugin.com//7.0.5//EN
TZID:America/Los_Angeles
X-WR-TIMEZONE:America/Los_Angeles
BEGIN:VEVENT
UID:118@onc-pdx.org
DTSTART;TZID=America/Los_Angeles;VALUE=DATE:20160212
DTEND;TZID=America/Los_Angeles;VALUE=DATE:20160216
DTSTAMP:20151014T150150Z
URL:https://onc-pdx.org/events/lake-creek-lodge-camp-sherman-or/
SUMMARY:Lake Creek Lodge\, Camp Sherman\, OR
DESCRIPTION:Feb 12-15\, Fri-MonAll ability SkiHalfway between Santiam Pass 
 and Sisters\, the very popular Lake Creek Lodge boasts quaint\, rustic cab
 ins panelled in knotty pine\, fireplaces\, full kitchens\, a creek coursin
 g thru the grounds\, and the ideal ambience for a cross-country ski holida
 y. Check out the website at www.lakecreeklodge.comWe'll carpool over on Fr
 iday\, have a traditional ONC potluck dinner on Saturday\, and perhaps hea
 d into Sisters for Sunday dinner. Ski options are many -- Santiam Pass\, M
 t. Bachelor area\, Maxwell Sno-Park\, Tam MacArthur Rim\, and if we're luc
 ky\, right out the door of our cabins.Trip limit: 16 participants.Cost: $2
 25 per person\, for three nights lodging.Sign up at the Overnight Trip Ext
 ravaganza in October. Afterwards\, you may sign-up on the ONC-PDX website 
 or send your overnight tour application and $225 check to trip leader\, St
 eve Levy. For more info\, contact Steve at 503-244-4262\, or slevy@pacifie
 r.com
CATEGORIES:Cross Country Ski
LOCATION:Lake Creek Lodge\, 13375 NF-1419\, Camp Sherman\, OR\, United Stat
 es
GEO:44.442970;-121.654633
X-APPLE-STRUCTURED-LOCATION;VALUE=URI;X-ADDRESS=13375 NF-1419\, Camp Sherma
 n\, OR\, United States;X-APPLE-RADIUS=100;X-TITLE=Lake Creek Lodge:geo:44.
 442970,-121.654633
END:VEVENT
BEGIN:VTIMEZONE
TZID:America/Los_Angeles
X-LIC-LOCATION:America/Los_Angeles
BEGIN:STANDARD
DTSTART:20151101T010000
TZOFFSETFROM:-0700
TZOFFSETTO:-0800
TZNAME:PST
END:STANDARD
END:VTIMEZONE
END:VCALENDAR