BEGIN:VCALENDAR
VERSION:2.0
PRODID:-//wp-events-plugin.com//7.0.5//EN
TZID:America/Los_Angeles
X-WR-TIMEZONE:America/Los_Angeles
BEGIN:VEVENT
UID:990@onc-pdx.org
DTSTART;TZID=America/Los_Angeles:20230121T080000
DTEND;TZID=America/Los_Angeles:20230121T170000
DTSTAMP:20230103T142225Z
URL:https://onc-pdx.org/events/koshko-snow-park-oldman-pass-wind-river-day
 -tour/
SUMMARY:Koshko Snow Park - Oldman Pass - Wind River Day Tour
DESCRIPTION:Description: Koshko Snow Park - Oldman Pass - Wind River Day To
 ur\n\nSki Level: Beginning - Intermediate\n\nDate: Saturday\, January 21\,
  2023\n\nMeeting Place &amp\; Time:\nMeet at&nbsp\; Oldtown Troutdale Publ
 ic Lot at 8 AM next to the railroad tracks\, 115 W Historic Columbia River
  Hwy. (see map below)\n\nTour Leader: Ken Wenzel\, skiwenzel@hotmail.com C
 ell - 503-729-6571&nbsp\; &nbsp\; Home Phone 503-297-2958\n\n
CATEGORIES:Cross Country Ski,Day Tours
LOCATION:Oldtown Troutdale (next to railroad tracks)\, 101 Historic Columbi
 a River Hwy.\, Troutdale\, OR\, 97060\, United States
X-APPLE-STRUCTURED-LOCATION;VALUE=URI;X-ADDRESS=101 Historic Columbia River
  Hwy.\, Troutdale\, OR\, 97060\, United States;X-APPLE-RADIUS=100;X-TITLE=
 Oldtown Troutdale (next to railroad tracks):geo:0,0
END:VEVENT
BEGIN:VTIMEZONE
TZID:America/Los_Angeles
X-LIC-LOCATION:America/Los_Angeles
BEGIN:STANDARD
DTSTART:20221106T010000
TZOFFSETFROM:-0700
TZOFFSETTO:-0800
TZNAME:PST
END:STANDARD
END:VTIMEZONE
END:VCALENDAR