BEGIN:VCALENDAR
VERSION:2.0
PRODID:-//wp-events-plugin.com//7.0.5//EN
TZID:America/Los_Angeles
X-WR-TIMEZONE:America/Los_Angeles
BEGIN:VEVENT
UID:654@onc-pdx.org
DTSTART;TZID=America/Los_Angeles;VALUE=DATE:20200228
DTEND;TZID=America/Los_Angeles;VALUE=DATE:20200309
DTSTAMP:20200226T003345Z
URL:https://onc-pdx.org/events/kootenay-nordic-adventure-2020/
SUMMARY:Kootenay Nordic Adventure
DESCRIPTION:Kootenay Nordic AdventureFriday\, Feb.28 thru following Sunday\
 , Mar.8Rossland BC\, Kimberley BC\, Radium Hot Springs BCAdvanced-Beginner
  Level Skier and AboveSki three different locations in the Kootenay area o
 f SE British Columbia:&nbsp\; Rossland\, Kimberley\, and Radium Hot Spring
 s.&nbsp\; Near Rossland\, ski trails are groomed by the Black Jack Cross C
 ountry Ski Club or try ungroomed terrain in the nearby Rossland Range Recr
 eation Site.&nbsp\; In Kimberley the local Nordic club provides a 1st clas
 s network of 65 km groomed trails close to town.&nbsp\; Ungroomed slopes a
 re located nearby in the Kimberley Nature Park.&nbsp\; Outside Radium Hot 
 Springs\, enjoy the solace and beauty of Nipika Mountain Resort on 50 km o
 f groomed trails or venture into Kootenay National Park to do backcountry 
 skiing.&nbsp\; After a vigorous day of skiing\, soak in the hot springs ju
 st outside of town.&nbsp\; To find out more about these unparalleled areas
 \, go to kootenayxc.com.&nbsp\; Note that groomed areas require a moderate
  daily fee (from $12 to $15 a day).&nbsp\; Accommodations will vary:&nbsp\
 ; A motel in Rossland with breakfast provided\, a well-appointed condo in 
 Kimberley\, and finally a whole house in Radium.&nbsp\; 3 couples and 4 si
 nglesTrip limit:&nbsp\; 10 skiers including trip leader.Cost:&nbsp\; $520/
 member\, per person.&nbsp\; Includes 9 nights lodging.Carpool miles:&nbsp\
 ; 1400 miles roundtrip from Portland plus excursions to trailheads.Trip Le
 ader:&nbsp\; Ann Truax\, ann.truax@gmail.com
CATEGORIES:Cross Country Ski
END:VEVENT
BEGIN:VTIMEZONE
TZID:America/Los_Angeles
X-LIC-LOCATION:America/Los_Angeles
BEGIN:STANDARD
DTSTART:20191103T010000
TZOFFSETFROM:-0700
TZOFFSETTO:-0800
TZNAME:PST
END:STANDARD
BEGIN:DAYLIGHT
DTSTART:20200308T030000
TZOFFSETFROM:-0800
TZOFFSETTO:-0700
TZNAME:PDT
END:DAYLIGHT
END:VTIMEZONE
END:VCALENDAR