BEGIN:VCALENDAR
VERSION:2.0
PRODID:-//wp-events-plugin.com//7.0.5//EN
TZID:America/Los_Angeles
X-WR-TIMEZONE:America/Los_Angeles
BEGIN:VEVENT
UID:657@onc-pdx.org
DTSTART;TZID=America/Los_Angeles;VALUE=DATE:20200320
DTEND;TZID=America/Los_Angeles;VALUE=DATE:20200323
DTSTAMP:20200324T221246Z
URL:https://onc-pdx.org/events/john-craig-tour-weekend-2020/
SUMMARY:John Craig Tour Weekend
DESCRIPTION:Friday\, Mar. 20 thru Sunday\, Mar. 22Black Butte Ranch\, ORAll
  Abilities SkiThe Annual John Craig Nordic Ski Tour will be held on March 
 21\, 2020 on the McKenzie Pass Highway in Sisters Oregon.&nbsp\; People fr
 om all over the state participate in this fun\, non-competitive event.&nbs
 p\; The tour is an out and back on a gentle forest road through the beauti
 ful Deschutes National Forest.&nbsp\; In good weather an average skier can
  reach Dee Wright Observatory in about three hours.&nbsp\; The return trip
  takes about half the amount of time they took to climb.&nbsp\; There is a
  suggested donation of $10.00 for the John Craig Ski Tour.&nbsp\; Sunday s
 ki tour options include Santiam Pass Sno-Parks\, Hoodoo ski area (fee / re
 ntals available)\, or Three Creeks Sno-Park.Skiing on Friday is also possi
 ble for those willing and able to take Friday off from work.&nbsp\;&nbsp\;
 &nbsp\; The house at Black Butte has 4 bedrooms and 3 bathrooms. There is 
 a hot tub\, wood burning stove and plenty of room for games\, puzzles and 
 relaxing.&nbsp\; Breakfasts on Sat and Sun plus Friday dinner will be potl
 ucks.&nbsp\;&nbsp\; The price for this weekend includes housing at Black B
 utte Ranch and pizza dinner on Saturday after the John Craig Tour.&nbsp\; 
 The pizza dinner\, at the Best Western Ponderosa Lodge in Sisters\, is hel
 d in conjunction with the presentation of the John Day Trophy for ONC Exce
 llence in Leadership.Enjoy a few photos from last year:&nbsp\; John Craig 
 Tour 2019If the trip is full or the singles are full\, please join the wai
 tlist.&nbsp\; If we have more singles we juggle room arrangements to try a
 nd accommodate.Trip limit:&nbsp\; 8 participants including trip leader.Cos
 t: $140/member\, per person.&nbsp\; Includes 2 nights lodging plus a pizza
  party and ski tour donation.Carpool miles:&nbsp\; 300 miles roundtrip fro
 m Portland plus excursions to trailheads.Trip Leader:&nbsp\; Mary Bourret\
 , MaryLBourret@gmail.com
CATEGORIES:Cross Country Ski
END:VEVENT
BEGIN:VTIMEZONE
TZID:America/Los_Angeles
X-LIC-LOCATION:America/Los_Angeles
BEGIN:DAYLIGHT
DTSTART:20200308T030000
TZOFFSETFROM:-0800
TZOFFSETTO:-0700
TZNAME:PDT
END:DAYLIGHT
END:VTIMEZONE
END:VCALENDAR