BEGIN:VCALENDAR
VERSION:2.0
PRODID:-//wp-events-plugin.com//7.0.5//EN
TZID:America/Los_Angeles
X-WR-TIMEZONE:America/Los_Angeles
BEGIN:VEVENT
UID:787@onc-pdx.org
DTSTART;TZID=America/Los_Angeles;VALUE=DATE:20210319
DTEND;TZID=America/Los_Angeles;VALUE=DATE:20210322
DTSTAMP:20210307T230147Z
URL:https://onc-pdx.org/events/john-craig-tour-weekend-2/
SUMMARY:John Craig Tour Weekend
DESCRIPTION:Sisters\, OR\nMar. 19 - 21\, Fri - Sun\nAll Abilities Ski\n\nAl
 l abilities are welcome on this trip. On Saturday the strong skiers will s
 ki Highway 242 from the Sno-Park to Dee Wright observatory and back. The v
 iews of the lava flows are spectacular a few miles out of the Sno-Park\, s
 o people that want to take it easy and not go all the way up to the Dee Wr
 ight should have stunning views. We plan for a groomed trail but anything 
 can change. On Sunday we will stop at another Sno-Park after checking out 
 of the hotel and ski until returning to Portland. This Sno-Park will depen
 d on conditions but most likely Three Creeks or Ray Benson. These areas ar
 e ungroomed but the trails are marked and possibly broken in.&nbsp\;\n\nTh
 is is one of the trips using the new hotel model. We won’t potluck for d
 inners but will eat at restaurants or participants may choose to microwave
  popcorn in their rooms. Participants will book their room from the ONC bl
 ock of rooms and pay the hotel directly.\n\nTrip limit:&nbsp\; 6 to 12 par
 ticipants including trip leader\, depending on COVID-19 room sharing restr
 ictions.\nCost: $10/member registration on ONC-PDX website.&nbsp\; Lodging
  $137/person\, double occupancy rooms.&nbsp\; Pay the registration fee and
  contact the leader for info about booking the rooms.&nbsp\; Additional sm
 all donation requested to participate in the John Craig Memorial Ski. Sno-
 Park permit required.\nTravel miles:&nbsp\; 300 miles roundtrip from Portl
 and plus excursions to trailheads.\nTrip leader:&nbsp\; Sam Digard\, sam.d
 igard@gmail.com&nbsp\;
CATEGORIES:Cross Country Ski
END:VEVENT
BEGIN:VTIMEZONE
TZID:America/Los_Angeles
X-LIC-LOCATION:America/Los_Angeles
BEGIN:DAYLIGHT
DTSTART:20210314T030000
TZOFFSETFROM:-0800
TZOFFSETTO:-0700
TZNAME:PDT
END:DAYLIGHT
END:VTIMEZONE
END:VCALENDAR