BEGIN:VCALENDAR
VERSION:2.0
PRODID:-//wp-events-plugin.com//7.0.5//EN
TZID:America/Los_Angeles
X-WR-TIMEZONE:America/Los_Angeles
BEGIN:VEVENT
UID:844@onc-pdx.org
DTSTART;TZID=America/Los_Angeles;VALUE=DATE:20220318
DTEND;TZID=America/Los_Angeles;VALUE=DATE:20220321
DTSTAMP:20220327T225129Z
URL:https://onc-pdx.org/events/john-craig-memorial-ski-weekend/
SUMMARY:John Craig Memorial Ski Weekend
DESCRIPTION:Trip Rating: Intermediate to Expert Ski\nBasecamp: Sisters\, OR
 \n\nThe John Craig Memorial Ski Tour is an ONC tradition.&nbsp\; It honors
  the memory and determination of this legendary postmaster who in the 1800
 ’s delivered the mail over McKenzie Pass on horseback and skis.&nbsp\; H
 e may have well inspired part of that famous phrase about “neither snow 
 nor rain nor heat...”\, paying for his life with his mail pouch in tow.&
 nbsp\; More about his story can be found on the ONC State website.\n\nThis
  state sponsored event is being organized this year by our very own Ted Sc
 heinman\, so you know it’s going to be fun and\, ahem\, a memorial event
 .&nbsp\; Stay tuned as the details are being worked out\, including a regi
 stration fee and social events\, and the date may change.\n\n[caption id="
 attachment_10025" align="alignright" width="300"] McKenzie Pass Summit\, e
 lev. 5325'[/caption]\n\nTrip limit: All members are encouraged to join the
  tour\nCost: A registration fee to defray costs. Other costs are for lodgi
 ng\, transportation and meals.\nTravel miles: 300 miles roundtrip from Por
 tland\, plus excursions to trailheads.\nTrip Leader: You!&nbsp\; And many 
 other Nordic skiing enthusiasts.\n\nQuestions?&nbsp\; Email JohnCraigMemor
 ial@onc.org
CATEGORIES:Cross Country Ski
END:VEVENT
BEGIN:VTIMEZONE
TZID:America/Los_Angeles
X-LIC-LOCATION:America/Los_Angeles
BEGIN:DAYLIGHT
DTSTART:20220313T030000
TZOFFSETFROM:-0800
TZOFFSETTO:-0700
TZNAME:PDT
END:DAYLIGHT
END:VTIMEZONE
END:VCALENDAR