BEGIN:VCALENDAR
VERSION:2.0
PRODID:-//wp-events-plugin.com//7.0.5//EN
TZID:America/Los_Angeles
X-WR-TIMEZONE:America/Los_Angeles
BEGIN:VEVENT
UID:1203@onc-pdx.org
DTSTART;TZID=America/Los_Angeles:20250315T090000
DTEND;TZID=America/Los_Angeles:20250315T153000
DTSTAMP:20250316T135404Z
URL:https://onc-pdx.org/events/john-craig-memorial-ski-race-and-tour-2025/
SUMMARY:John Craig Memorial Ski Race and Tour 2025
DESCRIPTION:The John Craig Memorial Ski Event is scheduled for Saturday\, M
 arch 15\, 2025.  It will consist of self-timed ski races of about 8 or 15
  miles and casual ski tours of the same lengths leaving from the East Snow
  Gate of Highway 242 (McKenzie Pass Highway)\, about 9 miles west of Siste
 rs\, Oregon. The ski trail will be groomed for both classic and skate skii
 ng to make this wilderness ski event possible.  We plan to have course mo
 nitors\, rest stops\, rescue\, and medical support.\n\nThis event commemor
 ates John Templeton Craig\, the pioneer mailman who died during a sudden w
 inter snowstorm on McKenzie Pass in December\, 1877\, in an attempt to del
 iver mail to the Willamette Valley. The John Craig Memorial Event is writt
 en into the bylaws of the State Oregon Nordic Club as an end of the year c
 elebration with most of the chapters of the ONC participating.  More on t
 he historical story can be found at onc.org.\n\n[caption id="attachment_10
 025" align="alignright" width="360"] McKenzie Pass Summit\, elev. 5325'[/c
 aption]\n\nSki racers and tour participants can complete either the course
  of about 15 miles to the Dee Wright Memorial at the top of McKenzie Pass\
 , or a shorter route of about 8 miles to Windy Point.  The cost of the ev
 ent is low\, to make it possible:\n• Adult racer or ski tour participant
  – $ 20 by March 10\, $25 after\n• Youth (under 18) – $5\n\nProceeds
  from this event go to fund the High School XC Ski Racing Programs through
  OISRAN.\nONC membership is NOT required for this event\, just register be
 low\, do not try to login.\nPDX Chapter members - please login before regi
 stering or the system will block you.\n\nSpecial room rates have been arra
 nged with Best Western Ponderosa Lodge in Sisters\, two night stay applies
 .  Reservations must be made no later Feb. 28\, 2025 to take advantage of
  the group block.  For more info and to reserve\, click here.\n\nA pizza 
 buffet follows the event starting at 4 PM at Takoda's in Sisters\, sponsor
 ed by Next Adventure.\n\nOn the day of the event:\n\n 	Planned start time:
   9 AM - 11 AM\n 	Course closes at 3:30 PM\n 	Pizza Party at Takoda's 4-7
  PM\n\n[caption id="attachment_18827" align="alignright" width="300"] JCM 
 Route Profile - click to enlarge[/caption]\n\nQuestions about the event? 
  Email johncraigmemorial@onc.org or Kenneth Wenzel at 503-729-6571.\nWant 
 to volunteer?  Click here to help create what's always a fun event.\nProb
 lems registering?:  Click here and send us a message with details.\nCan't
  submit? Note the required fields\, phone formatting and checkboxes.  Scr
 oll up the page\, look for errors highlighted in yellow.\n\nPlease have al
 l in your party sign a waiver beforehand. Please sign online here.  Portl
 and chapter members need not sign again if they did earlier this season. 
  For minors\, parents and guardians\, please sign here.\n\nWhen you sign u
 p\, look for a confirmation email from webmaster@onc-pdx.org.  Check your
  spam filter if necessary.  We look forward to your ski enjoyment with us
 !
CATEGORIES:Cross Country Ski,Day Tours,Fundraiser,Skate Ski
LOCATION:Hwy. 242 East Snow Gate\, Hwy. 242\, Sisters\, OR\, United States
X-APPLE-STRUCTURED-LOCATION;VALUE=URI;X-ADDRESS=Hwy. 242\, Sisters\, OR\, U
 nited States;X-APPLE-RADIUS=100;X-TITLE=Hwy. 242 East Snow Gate:geo:0,0
END:VEVENT
BEGIN:VTIMEZONE
TZID:America/Los_Angeles
X-LIC-LOCATION:America/Los_Angeles
BEGIN:DAYLIGHT
DTSTART:20250309T030000
TZOFFSETFROM:-0800
TZOFFSETTO:-0700
TZNAME:PDT
END:DAYLIGHT
END:VTIMEZONE
END:VCALENDAR