BEGIN:VCALENDAR
VERSION:2.0
PRODID:-//wp-events-plugin.com//7.0.5//EN
TZID:America/Los_Angeles
X-WR-TIMEZONE:America/Los_Angeles
BEGIN:VEVENT
UID:1015@onc-pdx.org
DTSTART;TZID=America/Los_Angeles;VALUE=DATE:20230318
DTEND;TZID=America/Los_Angeles;VALUE=DATE:20230319
DTSTAMP:20240127T215415Z
URL:https://onc-pdx.org/events/john-craig-memorial-ski-race-and-tour-2023/
SUMMARY:John Craig Memorial Ski Race and Tour 2023
DESCRIPTION:The John Craig Memorial Ski Race and Tour is scheduled for Satu
 rday\, March 18\, 2023.&nbsp\; This event\, commemorating John Templeton C
 raig\, the pioneer mailman who died during a sudden winter snowstorm on Mc
 Kenzie Pass in December\, 1877\, in an attempt to deliver mail to the Will
 amette Valley.&nbsp\; More of the historical story at onc.org.\n\nFor 2023
 \, the John Craig Memorial Ski Event will consist of self-timed ski races 
 of about 6 or 12 miles and casual ski tours of the same lengths.&nbsp\; Th
 e event will take place on Saturday\, March 18\, leaving from the East Sno
 w Gate of Highway 242 (McKenzie Pass Highway)\, about 9 miles west of Sist
 ers\, Oregon. The ski trail will be groomed for both classic and skate ski
 ing to make this wilderness ski event possible.&nbsp\; We plan to have cou
 rse monitors\, rest stops\, rescue\, and medical support.\n\nSki racers an
 d tour participants can complete either the course of about 12 miles to th
 e Dee Wright Memorial at the top of McKenzie Pass\, or a shorter route of 
 about 6-8 miles to Windy Point.\n\n[caption id="attachment_10025" align="a
 lignright" width="300"] McKenzie Pass Summit\, elev. 5325'[/caption]\n\nTh
 e cost of the event is low\, to make it possible.&nbsp\; ONC membership is
  NOT required for this event.&nbsp\; If you have trouble registering\, ple
 ase contact johncraigmemorial@onc.org or Ted Scheinman at 503-914-9584\n\n
 Adult racer or ski tour participant - $ 20 by March 15\, $25 after\n\nYout
 h (under 18) - $5\n\nA pizza buffet in Sisters follows the event sponsored
  by Next Adventure.\n\nA limited amount of lodging at a 15% discount is av
 ailable in Sisters at Left Coast Lodge. Call them at 541-549-2551 with cod
 e ‘NORDICCLUB’ for the lowered rate.&nbsp\;\n\nAlso\, Sisters Inn and 
 Suites has a discounted rate of $126 per night\, plus tax. Call them at 54
 1-549-7829 and use code ‘Oregon Nordic Club/John Craig’.\n\nFor more i
 nformation\, please contact Ted Scheinman\, John Craig Event Coordinator\,
  at johncraigmemorial@onc.org or by phone at 503-914-9584.\n\nLook for a c
 onfirmation email from webmaster@onc-pdx.org.&nbsp\; Check your spam filte
 r if necessary.&nbsp\; We look forward to your ski enjoyment with us.
CATEGORIES:Cross Country Ski,Skate Ski
END:VEVENT
BEGIN:VTIMEZONE
TZID:America/Los_Angeles
X-LIC-LOCATION:America/Los_Angeles
BEGIN:DAYLIGHT
DTSTART:20230312T030000
TZOFFSETFROM:-0800
TZOFFSETTO:-0700
TZNAME:PDT
END:DAYLIGHT
END:VTIMEZONE
END:VCALENDAR