BEGIN:VCALENDAR
VERSION:2.0
PRODID:-//wp-events-plugin.com//7.0.5//EN
TZID:America/Los_Angeles
X-WR-TIMEZONE:America/Los_Angeles
BEGIN:VEVENT
UID:884@onc-pdx.org
DTSTART;TZID=America/Los_Angeles;VALUE=DATE:20220319
DTEND;TZID=America/Los_Angeles;VALUE=DATE:20220320
DTSTAMP:20220318T135809Z
URL:https://onc-pdx.org/events/john-craig-memorial-2022/
SUMMARY:John Craig Memorial Ski Race and Tour 2022
DESCRIPTION:Registration is now closed but on-site registration is availabl
 e at the start of the event.\n&nbsp\;\n\nThe John Craig Memorial Ski Race 
 and Tour is scheduled for Saturday\, March 19\, 2022.&nbsp\; This event\, 
 commemorating John Templeton Craig\, the pioneer mailman who died during a
  sudden winter snowstorm on McKenzie Pass in December\, 1877\, in an attem
 pt to deliver mail to the Willamette Valley.&nbsp\; More of the historical
  story at onc.org.\n\nFor 2022\, the John Craig Memorial Ski Event will co
 nsist of self-timed ski races of about 6 or 12 miles and casual ski tours 
 of the same lengths.&nbsp\; The event will take place on Saturday\, March 
 19\, leaving from the East Snow Gate of Highway 242 (McKenzie Pass Highway
 )\, about 9 miles west of Sisters\, Oregon. The ski trail will be groomed 
 for both classic and skate skiing to make this wilderness ski event possib
 le.&nbsp\; We plan to have course monitors\, rest stops\, rescue\, and med
 ical support.\n\nSki racers and tour participants can complete either the 
 course of about 12 miles to the Dee Wright Memorial at the top of McKenzie
  Pass\, or a shorter route of about 6-8 miles to Windy Point.\n\n[caption 
 id="attachment_10025" align="alignright" width="300"] McKenzie Pass Summit
 \, elev. 5325'[/caption]\n\nThe cost of the event is low\, to make it poss
 ible.&nbsp\; ONC membership is NOT required for this event.&nbsp\; If you 
 have trouble registering\, please contact johncraigmemorial@onc.org or Ted
  Scheinman at 503-914-9584\n\nAdult racer or ski tour participant - $ 25\n
 \nYouth (under 18) - $5\n\nA pizza buffet in Sisters follows the event.\n\
 nA limited number of lodging is available at Sisters Inn and Suites for a 
 discounted rate of $95 per night\, plus tax. If you need a place to stay\,
  call them at (541) 549-7829 and tell them you are part of the Oregon Nord
 ic Club/ John Craig group.\n\nFor more information\, please contact Ted Sc
 heinman\, John Craig Event Coordinator\, at johncraigmemorial@onc.org or b
 y phone at 503-914-9584.\n\nLook for an email from webmaster@onc-pdx.org t
 o complete your signup.&nbsp\; Check your spam filter if necessary.&nbsp\;
  We look forward to your ski enjoyment with us.
CATEGORIES:Cross Country Ski,Skate Ski
END:VEVENT
BEGIN:VTIMEZONE
TZID:America/Los_Angeles
X-LIC-LOCATION:America/Los_Angeles
BEGIN:DAYLIGHT
DTSTART:20220313T030000
TZOFFSETFROM:-0800
TZOFFSETTO:-0700
TZNAME:PDT
END:DAYLIGHT
END:VTIMEZONE
END:VCALENDAR