BEGIN:VCALENDAR
VERSION:2.0
PRODID:-//wp-events-plugin.com//7.0.5//EN
TZID:America/Los_Angeles
X-WR-TIMEZONE:America/Los_Angeles
BEGIN:VEVENT
UID:804@onc-pdx.org
DTSTART;TZID=America/Los_Angeles:20210105T190000
DTEND;TZID=America/Los_Angeles:20210105T210000
DTSTAMP:20201229T060731Z
URL:https://onc-pdx.org/events/january-meeting-border-to-border-in-finland
 -with-a-rookie-skier/
SUMMARY:January Meeting: Border to Border in Finland with a Rookie Skier
DESCRIPTION:ONC-PDX Monthly Meeting\nBorder to Border in Finland with a Roo
 kie Skier\n\nWhen: Tuesday January 5th\, 7pm – 9pm. 7pm members share ab
 out skiing\, 7:30 pm program. \nWhere: Zoom! Members will receive the lin
 k by email\n\nTITLE: Border to Border in Finland with a Rookie Skier.\n\nJ
 oin Dana Katz as she tells her story of going from her longest ski of 13 m
 iles to participating in the 400-kilometer Border to Border ski across nor
 thern Finland.  Dana is an ultrarunner who realized that her love of trav
 el\, endurance and snacking should not just be limited to running trips. D
 ana will tell you about skiing in Lapland and her experience with the Bord
 er-to-Border event. Hope to see you online!\n\nP.S. We will open 30 minut
 es early (7 pm) for people to share about recent ski experiences and share
  ideas for places to ski.\n\nProgram Flier (Download)\n\n
CATEGORIES:Meeting
END:VEVENT
BEGIN:VTIMEZONE
TZID:America/Los_Angeles
X-LIC-LOCATION:America/Los_Angeles
BEGIN:STANDARD
DTSTART:20201101T010000
TZOFFSETFROM:-0700
TZOFFSETTO:-0800
TZNAME:PST
END:STANDARD
END:VTIMEZONE
END:VCALENDAR