BEGIN:VCALENDAR
VERSION:2.0
PRODID:-//wp-events-plugin.com//7.0.5//EN
TZID:America/Los_Angeles
X-WR-TIMEZONE:America/Los_Angeles
BEGIN:VEVENT
UID:813@onc-pdx.org
DTSTART;TZID=America/Los_Angeles:20210219T083000
DTEND;TZID=America/Los_Angeles:20210219T170000
DTSTAMP:20210216T202208Z
URL:https://onc-pdx.org/events/intermediate-day-tour-old-man-pass-mt-adams
 -wa/
SUMMARY:Intermediate Day Tour - Old Man Pass\, Mt. Adams\, WA
DESCRIPTION:Let's have another great Friday easy/intermediate ski tour! We 
 should have good snow after this recent snowfall. We can avoid the weekend
  crowds and enjoy the outdoors! You will need a Washington Sno-Park (day o
 r annual)\, generally available at REI.\n\nLeader: Ted Scheinman\, 503-914
 -9584\, tedskier@gmail.com
CATEGORIES:Cross Country Ski
LOCATION:\, \, 
X-APPLE-STRUCTURED-LOCATION;VALUE=URI;X-ADDRESS=\, ;X-APPLE-RADIUS=100;X-TI
 TLE=:geo:0,0
END:VEVENT
BEGIN:VTIMEZONE
TZID:America/Los_Angeles
X-LIC-LOCATION:America/Los_Angeles
BEGIN:STANDARD
DTSTART:20201101T010000
TZOFFSETFROM:-0700
TZOFFSETTO:-0800
TZNAME:PST
END:STANDARD
END:VTIMEZONE
END:VCALENDAR