BEGIN:VCALENDAR
VERSION:2.0
PRODID:-//wp-events-plugin.com//7.0.5//EN
TZID:America/Los_Angeles
X-WR-TIMEZONE:America/Los_Angeles
BEGIN:VEVENT
UID:1192@onc-pdx.org
DTSTART;TZID=America/Los_Angeles:20241228T080000
DTEND;TZID=America/Los_Angeles:20241228T180000
DTSTAMP:20241226T004307Z
URL:https://onc-pdx.org/events/hot-chocolate-at-timberline-intermediate-to
 ur/
SUMMARY:Hot Chocolate at Timberline - Intermediate Tour
DESCRIPTION:This tour is an out-and-back up from Government Camp to Timberl
 ine lodge. At Timberline lodge we’ll have hot chocolate before zooming b
 ack down. .  It is not the most exciting tour but it is a good one to sta
 rt the season off as we first strap these long sticks to our feet and see 
 if we can remember how to ski. Please email me and I'll send a lengthy inf
 o packet.\n\nTo be on this tour you must contact me by e-mail in advance.
   I do this so that I can send each potential participant an info packet 
 with more info on difficulty and expectations for this tour. Additionally\
 , I want all your e-mail addresses so that in case the trip is cancelled I
  can contact everyone.   Sorry for the hassle related with this but I ne
 ed to ensure a safe tour.\n\n&nbsp\;\n\nLeader: Scott Diamond\nEmail: scot
 t.diamond.mail@gmail.com Meeting time/Place: As noted above\, e-mail me f
 or info\nDog’s allowed: No\nCost: Plan on $15/skier for carpool cost
CATEGORIES:Cross Country Ski,Day Tours
LOCATION:Oldtown Troutdale (next to railroad tracks)\, 101 Historic Columbi
 a River Hwy.\, Troutdale\, OR\, 97060\, United States
X-APPLE-STRUCTURED-LOCATION;VALUE=URI;X-ADDRESS=101 Historic Columbia River
  Hwy.\, Troutdale\, OR\, 97060\, United States;X-APPLE-RADIUS=100;X-TITLE=
 Oldtown Troutdale (next to railroad tracks):geo:0,0
END:VEVENT
BEGIN:VTIMEZONE
TZID:America/Los_Angeles
X-LIC-LOCATION:America/Los_Angeles
BEGIN:STANDARD
DTSTART:20241103T010000
TZOFFSETFROM:-0700
TZOFFSETTO:-0800
TZNAME:PST
END:STANDARD
END:VTIMEZONE
END:VCALENDAR