BEGIN:VCALENDAR
VERSION:2.0
PRODID:-//wp-events-plugin.com//7.0.5//EN
TZID:America/Los_Angeles
X-WR-TIMEZONE:America/Los_Angeles
BEGIN:VEVENT
UID:1268@onc-pdx.org
DTSTART;TZID=America/Los_Angeles;VALUE=DATE:20260212
DTEND;TZID=America/Los_Angeles;VALUE=DATE:20260217
DTSTAMP:20260108T204537Z
URL:https://onc-pdx.org/events/horseshoe-prairie-2026/
SUMMARY:Horseshoe Prairie President's Day Weekend
DESCRIPTION:Tollgate\, OR\nFebruary 12 - 16\, 2026\, Thu-Mon\nIntermediate 
 Level\n\nCelebrate President’s Weekend in Eastern Oregon sunshine.Leavin
 g on Thursday\, Feb. 12\, and returning on Monday\, Feb. 16\, will give us
  plenty of time to explore this less traveled area.It’s about a 4-hour d
 rive from Portland\, so on the way we could enjoy a soak at Carson Hot Spr
 ings and/or a walk along the Deschutes River.\n\nOur vacation home is the 
 cozy\, comfortable Weston Mountain Lodge\, about a 30-minute drive from th
 e Horseshoe Prairie Nordic ski area and just down the road from Weston\, O
 regon (pop. 705\, up from 667 in 2010.)\n\nAirbnb says\, “Weston Mountai
 n Lodge is a grand\, open space full of natural light that feels intimate 
 and cozy too. The house and land feel magical and “otherworldly”—a q
 uiet oasis tucked off life’s busy path.”\n\nBring your suits to enjoy 
 a hot tub soak.There will be opportunities to play board games and sing al
 ong with the lodge's upright piano and guitar\, if group members wish.We
 ’ll share three dinners (Fri - Sun)\, and breakfast oats will be provide
 d.\n\nThis trip is designed for intermediate skiers. We will ski in the Ho
 rseshoe Prairie area in the Umatilla Forest and perhaps explore nearby ski
  areas. It’s important that you be in good enough shape and have the ski
 lls to keep up with a group. It’s remote\, so it’s especially not a go
 od place to ski alone.\n\nTrip limit:  8 participants\nCost:  $370 per p
 erson\, including 4 nights lodging and 4 breakfasts\, coffee and tea.  Ex
 cludes cost of travel and shared meals.\nTravel miles:  From Portland\, 4
 85 miles round trip\, plus mileage to the ski areas\nTrip Leader:  Donna 
 Wiench\, dwiench@gmail.com
CATEGORIES:Cross Country Ski
END:VEVENT
BEGIN:VTIMEZONE
TZID:America/Los_Angeles
X-LIC-LOCATION:America/Los_Angeles
BEGIN:STANDARD
DTSTART:20251102T010000
TZOFFSETFROM:-0700
TZOFFSETTO:-0800
TZNAME:PST
END:STANDARD
END:VTIMEZONE
END:VCALENDAR