BEGIN:VCALENDAR
VERSION:2.0
PRODID:-//wp-events-plugin.com//7.0.5//EN
TZID:America/Los_Angeles
X-WR-TIMEZONE:America/Los_Angeles
BEGIN:VEVENT
UID:1301@onc-pdx.org
DTSTART;TZID=America/Los_Angeles:20260221T073000
DTEND;TZID=America/Los_Angeles:20260221T163000
DTSTAMP:20260218T210402Z
URL:https://onc-pdx.org/events/head-in-the-clouds-intermediate-advanced/
SUMMARY:Head in the Clouds - Intermediate/Advanced
DESCRIPTION:Mt Hood\, we’ll take the whole north side for ourselves on th
 is advanced tour.   We will put on skins and slowly climb up to the Till
 y Jane hut. If it is open\, we’ll take a break inside. From there we tra
 verse across to Cloud Cap and then have a fun descent along the wagon road
  trail.\n\nFor this tour you need to have skins and skis wide enough to ma
 ke turns on as we head downhill.\n\nOnce you have signed up for this tour\
 , I will email you several info packets which should supply the informatio
 n you need to assess the difficulty of this tour.\n\nLeader: Scott Diamond
 \nEmail: scott.diamond.mail@gmail.com\nTour Difficulty: Advanced Intermedi
 ate\nDogs allowed: No\nCost: Plan on $15-$20/skier for carpool cost
CATEGORIES:Backcountry Ski/Telemarking,Day Tours
LOCATION:Oldtown Troutdale (next to railroad tracks)\, 101 Historic Columbi
 a River Hwy.\, Troutdale\, OR\, 97060\, United States
X-APPLE-STRUCTURED-LOCATION;VALUE=URI;X-ADDRESS=101 Historic Columbia River
  Hwy.\, Troutdale\, OR\, 97060\, United States;X-APPLE-RADIUS=100;X-TITLE=
 Oldtown Troutdale (next to railroad tracks):geo:0,0
END:VEVENT
BEGIN:VTIMEZONE
TZID:America/Los_Angeles
X-LIC-LOCATION:America/Los_Angeles
BEGIN:STANDARD
DTSTART:20251102T010000
TZOFFSETFROM:-0700
TZOFFSETTO:-0800
TZNAME:PST
END:STANDARD
END:VTIMEZONE
END:VCALENDAR