BEGIN:VCALENDAR
VERSION:2.0
PRODID:-//wp-events-plugin.com//7.0.5//EN
TZID:America/Los_Angeles
X-WR-TIMEZONE:America/Los_Angeles
BEGIN:VEVENT
UID:1017@onc-pdx.org
DTSTART;TZID=America/Los_Angeles:20230204T070000
DTEND;TZID=America/Los_Angeles:20230204T170000
DTSTAMP:20230201T174529Z
URL:https://onc-pdx.org/events/gunsight-ridge-advanced-tour/
SUMMARY:Gunsight Ridge Advanced Tour
DESCRIPTION:This is my new favorite tour of Hood. But it is not easy.   T
 his is an advanced tour. We’ve got to cover quite a few miles and gain l
 ots of elevation.  Most of the trail is remote and we’ll probably need 
 to break trail. We will be out on the snow ALL day.  But this tour  is a
 lso special and has some of everything:  skinning up and the exciting ”
 bootup” section on Gumjuwac trail\, wonderful skiing on the Gunsight rid
 ge\, great views\, a few ”whoop-de-doos” crossing over snowdrifts\, an
 d top it off with a nice decent into Pocket Creek. It is a grand adventure
 .\n\nYou need to have at least kicker skins to get up Gumjuwac (I may have
  a few pairs to loan)  and you need to be an advanced or at least strong 
 intermediate skier for this tour.\n\nOnce you sign up I'll send you a full
  info packet with details.
CATEGORIES:Cross Country Ski,Day Tours
LOCATION:Oldtown Troutdale (next to railroad tracks)\, 101 Historic Columbi
 a River Hwy.\, Troutdale\, OR\, 97060\, United States
X-APPLE-STRUCTURED-LOCATION;VALUE=URI;X-ADDRESS=101 Historic Columbia River
  Hwy.\, Troutdale\, OR\, 97060\, United States;X-APPLE-RADIUS=100;X-TITLE=
 Oldtown Troutdale (next to railroad tracks):geo:0,0
END:VEVENT
BEGIN:VTIMEZONE
TZID:America/Los_Angeles
X-LIC-LOCATION:America/Los_Angeles
BEGIN:STANDARD
DTSTART:20221106T010000
TZOFFSETFROM:-0700
TZOFFSETTO:-0800
TZNAME:PST
END:STANDARD
END:VTIMEZONE
END:VCALENDAR