BEGIN:VCALENDAR
VERSION:2.0
PRODID:-//wp-events-plugin.com//7.0.5//EN
TZID:America/Los_Angeles
X-WR-TIMEZONE:America/Los_Angeles
BEGIN:VEVENT
UID:1309@onc-pdx.org
DTSTART;TZID=America/Los_Angeles:20261007T080000
DTEND;TZID=America/Los_Angeles:20261007T170000
DTSTAMP:20260420T143224Z
URL:https://onc-pdx.org/events/government-camp-summit-ski-trail/
SUMMARY:Government Camp – Summit Ski Trail
DESCRIPTION:Join us to give the ski trails some TLC (Trail Limbing and Clea
 ring) at a close-in setting on Mt. Hood.  This is chance to get some elev
 ation acclimatization just before the snows set in.  Most trail tending w
 ork parties involve light brushing\, tree limbing\, and the hanging of blu
 e diamonds.  We will work until about 2:30 pm with return to Portland abo
 ut 5 pm.  We'll supply the tools and hardhats.\n\nMeet at Old Town Troutd
 ale at 8 am sharp for carpooling - see map below.\n\nWhat to bring: Bring 
 a comfortable pair of work gloves to protect your hands (gardening gloves\
 , leather\, etc.). Wear long pants\, a long-sleeved shirt\, hiking boots a
 nd protective eye wear.  Dress for the weather\; it could be hot\, cold\,
  windy\, rainy\, or any and all in the same day.  Have bug repellent\, su
 nscreen\, plus 12 essentials. Finally\, bring small backpack with a lunch 
 and snacks as you are sure to work up an appetite\, and lots of water.\n\n
 Sign up below - select the number of spaces for all of the people in your 
 party and provide their contact information where indicated.  Note to mem
 bers - please sign in to make a reservation.\n\nFor more info or if the si
 gnup is full\, contact the leader: Ken Wenzel 503-729-6571 (call or text) 
 skiwenzel@hotmail.com\n\nClick on the map to view a larger scale with stre
 et details of the meeting place.  Or view on Google Maps: 101 Historic Co
 lumbia River Hwy\, Troutdale\, OR 97060.  Look for us in the parking area
  behind the buildings just south of the railroad tracks.\n\n
CATEGORIES:Trail Tending
LOCATION:Oldtown Troutdale (next to railroad tracks)\, 101 Historic Columbi
 a River Hwy.\, Troutdale\, OR\, 97060\, United States
X-APPLE-STRUCTURED-LOCATION;VALUE=URI;X-ADDRESS=101 Historic Columbia River
  Hwy.\, Troutdale\, OR\, 97060\, United States;X-APPLE-RADIUS=100;X-TITLE=
 Oldtown Troutdale (next to railroad tracks):geo:0,0
END:VEVENT
BEGIN:VTIMEZONE
TZID:America/Los_Angeles
X-LIC-LOCATION:America/Los_Angeles
BEGIN:DAYLIGHT
DTSTART:20260308T030000
TZOFFSETFROM:-0800
TZOFFSETTO:-0700
TZNAME:PDT
END:DAYLIGHT
END:VTIMEZONE
END:VCALENDAR