BEGIN:VCALENDAR
VERSION:2.0
PRODID:-//wp-events-plugin.com//7.0.5//EN
TZID:America/Los_Angeles
X-WR-TIMEZONE:America/Los_Angeles
BEGIN:VEVENT
UID:1190@onc-pdx.org
DTSTART;TZID=America/Los_Angeles:20241215T080000
DTEND;TZID=America/Los_Angeles:20241215T170000
DTSTAMP:20241213T233714Z
URL:https://onc-pdx.org/events/government-camp-encirclement/
SUMMARY:Government Camp Encirclement
DESCRIPTION:This route strings together a number of trails in Government Ca
 mp area to provide a very solid intermediate level tour.  In this big loo
 p we hit most of the popular government camp trails including crosstown\, 
 tie snow bunny and summit trails. The distance is 10.8 miles with 1\,400 f
 eet total elevation gain.  You need to have good fitness for this tour\, 
 plan on being on the snow for more than six hours.\n\nContact me and I'll 
 send detailed info on the route\, meeting place\, etc\n\nScott.Diamond.Mai
 l@gmail.com\n\n503.643.6779
CATEGORIES:Cross Country Ski,Day Tours
LOCATION:Oldtown Troutdale (next to railroad tracks)\, 101 Historic Columbi
 a River Hwy.\, Troutdale\, OR\, 97060\, United States
X-APPLE-STRUCTURED-LOCATION;VALUE=URI;X-ADDRESS=101 Historic Columbia River
  Hwy.\, Troutdale\, OR\, 97060\, United States;X-APPLE-RADIUS=100;X-TITLE=
 Oldtown Troutdale (next to railroad tracks):geo:0,0
END:VEVENT
BEGIN:VTIMEZONE
TZID:America/Los_Angeles
X-LIC-LOCATION:America/Los_Angeles
BEGIN:STANDARD
DTSTART:20241103T010000
TZOFFSETFROM:-0700
TZOFFSETTO:-0800
TZNAME:PST
END:STANDARD
END:VTIMEZONE
END:VCALENDAR