BEGIN:VCALENDAR
VERSION:2.0
PRODID:-//wp-events-plugin.com//7.0.5//EN
TZID:America/Los_Angeles
X-WR-TIMEZONE:America/Los_Angeles
BEGIN:VEVENT
UID:725@onc-pdx.org
DTSTART;TZID=America/Los_Angeles:20200215T080000
DTEND;TZID=America/Los_Angeles:20200215T170000
DTSTAMP:20200211T235242Z
URL:https://onc-pdx.org/events/government-camp-encirclement-tour/
SUMMARY:Government Camp Encirclement Tour
DESCRIPTION:This route strings together a number of trails in Government Ca
 mp area to provide a very solid intermediate level tour. (“Solid” in t
 he distance we cover in the day but not terribly difficult technically.)  
 In this big loop we hit most of the popular government camp trails includi
 ng crosstown\, tie snow bunny and summit trails. The distance is 12 miles 
 with 1\,400 feet total elevation gain.  You need to have good fitness for 
 this tour\, plan on being on the snow for more than six hours.\n\nTo be on
  this tour you must contact me by e-mail in advance.  I do this so that I 
 can send each potential participant an info packet with more info on diffi
 culty and expectations for this tour. Additionally\, I want all your e-mai
 l addresses so that in case the trip is cancelled I can contact everyone. 
   Sorry for the hassle related with this but I need to ensure a safe tour.
 \n\nLeader: Scott Diamond \nEmail: scott.diamond.mail@gmail.com \nMobile: 
 503.643.6779\nMeeting time/Place: As noted above\, e-mail me for info \nDo
 g’s allowed: No \nCost: Plan on $15/skier for carpool cost \n
CATEGORIES:Cross Country Ski
END:VEVENT
BEGIN:VTIMEZONE
TZID:America/Los_Angeles
X-LIC-LOCATION:America/Los_Angeles
BEGIN:STANDARD
DTSTART:20191103T010000
TZOFFSETFROM:-0700
TZOFFSETTO:-0800
TZNAME:PST
END:STANDARD
END:VTIMEZONE
END:VCALENDAR