BEGIN:VCALENDAR
VERSION:2.0
PRODID:-//wp-events-plugin.com//7.0.5//EN
TZID:America/Los_Angeles
X-WR-TIMEZONE:America/Los_Angeles
BEGIN:VEVENT
UID:784@onc-pdx.org
DTSTART;TZID=America/Los_Angeles;VALUE=DATE:20210223
DTEND;TZID=America/Los_Angeles;VALUE=DATE:20210228
DTSTAMP:20210406T134010Z
URL:https://onc-pdx.org/events/glacier-national-park-train-and-terrain/
SUMMARY:Glacier National Park Train and Terrain - Cancelled
DESCRIPTION:Izaak Walton Inn\, Essex\, Montana&nbsp\;\nFeb. 23 - 27\, Tue -
  Sat\nAll Abilities Ski or Snowshoe\n\nWe will take Amtrak overnight to Es
 sex\, Montana\, adjacent to Glacier National Park for a wonderful ski vaca
 tion! Leave Portland on Tuesday afternoon\, February 23 and arrive Wednesd
 ay morning to sparkling snow and the cozy Izaak Walton Inn.&nbsp\; On Wedn
 esday through Friday\, we can ski or snowshoe on the 30 km of groomed trai
 ls\, ski to Dickey Bowl\,&nbsp\; other trails near the Inn\, or relax in t
 he Finnish sauna. There may also be an opportunity to ski at Marias Pass (
 extra cost) on the Continental Divide for some true off-trail skiing\, wit
 h magnificent views.\n\nEach night\, we can enjoy a gourmet meal in the re
 staurant\, read a good book by the fire\, participate in exciting ONC boar
 d games\, or relax. On Friday night\, February 26\, we will board the west
 bound overnight train back to Portland. As we pull back into the train sta
 tion in Portland on Saturday morning\, you will wonder why you waited so l
 ong to take this trip.\n\nTrip limit:&nbsp\; 10-20 participants including 
 trip leaders.\nCost:&nbsp\; $370 per person subject to confirmation in Oct
 .\; Includes four days of skiing (trail passes included)\, all transportat
 ion\, three nights lodging double occupancy at Izaak Walton Inn. Meals on 
 the train and at Izaak Walton Inn are available for purchase at an additio
 nal cost. Sleeper accommodations may also be available on Amtrak for an ad
 ditional cost.\nTravel miles:&nbsp\; Amtrak (relax)\, plus excursions to t
 railheads.\nTrip leader: Ted Scheinman\, tedskier@gmail.com\nCo-leader: Je
 ssica Park\, bodhicitta0@yahoo.com
CATEGORIES:Cross Country Ski
END:VEVENT
BEGIN:VTIMEZONE
TZID:America/Los_Angeles
X-LIC-LOCATION:America/Los_Angeles
BEGIN:STANDARD
DTSTART:20201101T010000
TZOFFSETFROM:-0700
TZOFFSETTO:-0800
TZNAME:PST
END:STANDARD
END:VTIMEZONE
END:VCALENDAR