BEGIN:VCALENDAR
VERSION:2.0
PRODID:-//wp-events-plugin.com//7.0.5//EN
TZID:America/Los_Angeles
X-WR-TIMEZONE:America/Los_Angeles
BEGIN:VEVENT
UID:1279@onc-pdx.org
DTSTART;TZID=America/Los_Angeles;VALUE=DATE:20241229
DTEND;TZID=America/Los_Angeles;VALUE=DATE:20250102
DTSTAMP:20250822T104606Z
URL:https://onc-pdx.org/events/glacier-national-park-new-years-special/
SUMMARY:Glacier National Park New Year's Special
DESCRIPTION:Essex\, MT\nDec. 29\, 2025 - Jan. 1\, 2026\, Mon - Thu\nAll Abi
 lities\n\nFor details of this trip\, please see: https://onc-pdx.org/event
 s/glacier-mt-2026/\n\nTrip Leader:  Ted Schienman\, tedskier@gmail.com\nC
 o-Leader: Rick Grote\, rgrote@gmail.com
END:VEVENT
BEGIN:VTIMEZONE
TZID:America/Los_Angeles
X-LIC-LOCATION:America/Los_Angeles
BEGIN:STANDARD
DTSTART:20241103T010000
TZOFFSETFROM:-0700
TZOFFSETTO:-0800
TZNAME:PST
END:STANDARD
END:VTIMEZONE
END:VCALENDAR