BEGIN:VCALENDAR
VERSION:2.0
PRODID:-//wp-events-plugin.com//7.0.5//EN
TZID:America/Los_Angeles
X-WR-TIMEZONE:America/Los_Angeles
BEGIN:VEVENT
UID:834@onc-pdx.org
DTSTART;TZID=America/Los_Angeles;VALUE=DATE:20220110
DTEND;TZID=America/Los_Angeles;VALUE=DATE:20220115
DTSTAMP:20220110T210941Z
URL:https://onc-pdx.org/events/glacier-national-park-2/
SUMMARY:Glacier National Park
DESCRIPTION:Trip Rating: All Abilities Ski or Snowshoe\nBasecamp:&nbsp\; Gl
 acier National Park\, MT\n\n[caption id="attachment_276" align="alignright
 " width="300"] What a view![/caption]\n\nWe will take Amtrak overnight to 
 Izaak Walton Inn\, Essex\, Montana\, adjacent to Glacier National Park for
  a wonderful ski vacation! We will leave Portland on Monday afternoon\, Ja
 nuary 10 and arrive Tuesday morning\, to sparkling snow and the cozy Izaak
  Walton Inn.\n\nOn Tuesday through Thursday\, we will ski or snowshoe on t
 he 30 km of groomed trails\, the Magnificent Dickey Bowl\, and other trail
 s\, or relax in the Finnish sauna or Olympic size hot tub. Each night\, we
  can enjoy a gourmet meal in the restaurant\, read a good book by the fire
 \, participate in exciting ONC board games\, have a drink in the bar\, or 
 relax. We have reserved a large cabin for socialization.&nbsp\; On Thursda
 y night\, January 13\, we will board the westbound overnight train back to
  Portland. As we pull back into the train station in Portland on Friday mo
 rning\, you will wonder why you waited so long to take this trip.\n\nIf on
 line sign up (in October 2021) shows the trip as full\, please join the wa
 itlist. There are almost always cancellations so chances are very good you
  will be able to get on the trip.&nbsp\;\n\nTrip limit: 20 participants\, 
 including the leader and co-leader\nCost: $400 per person\; includes three
  days of skiing (trail passes included)\, all transportation\, two nights 
 lodging\, double occupancy at Izaak Walton Inn. Meals on the train and at 
 Izaak Walton Inn are available for purchase at an additional cost. Sleeper
  accommodations may also be available on Amtrak for an additional cost –
  contact the leaders quickly.\nTravel miles:&nbsp\; No carpool is planned.
  14.5 hours via Amtrak one-way.&nbsp\;\nTrip Leader:&nbsp\; Ted Scheinman\
 , tedskier@gmail.com&nbsp\;\nCo-leader:&nbsp\; Jessica Park\, bodhicitta0@
 yahoo.com
CATEGORIES:Cross Country Ski,Snowshoe
END:VEVENT
BEGIN:VTIMEZONE
TZID:America/Los_Angeles
X-LIC-LOCATION:America/Los_Angeles
BEGIN:STANDARD
DTSTART:20211107T010000
TZOFFSETFROM:-0700
TZOFFSETTO:-0800
TZNAME:PST
END:STANDARD
END:VTIMEZONE
END:VCALENDAR