BEGIN:VCALENDAR
VERSION:2.0
PRODID:-//wp-events-plugin.com//7.0.5//EN
TZID:America/Los_Angeles
X-WR-TIMEZONE:America/Los_Angeles
BEGIN:VEVENT
UID:1255@onc-pdx.org
DTSTART;TZID=America/Los_Angeles;VALUE=DATE:20251229
DTEND;TZID=America/Los_Angeles;VALUE=DATE:20260103
DTSTAMP:20251020T175918Z
URL:https://onc-pdx.org/events/glacier-mt-2026/
SUMMARY:Glacier National Park New Year's Trip
DESCRIPTION:Essex\, MT\nDec. 29\, 2025 - Jan. 2\, 2026\, Mon - Fri\nAll Abi
 lities\n\nImagine cross-country skiing in the Glacier National Park area o
 ver New Years! Imagine leaving your car at home over this busy holiday and
  taking Amtrak overnight to Montana. Imagine the opportunity to do track s
 kiing and/or backcountry skiing! Imagine doing this with your new and old 
 ONC friends! That is what the ONC-PDX Glacier National Park trip to Essex\
 , Montana\, is all about!\n\nIf you have such an imagination\, you should 
 join the New Year’s Montana ski trip from December 29 to January 1.\n\nW
 e will take Amtrak overnight to Essex\, Montana\, adjacent to Glacier Nati
 onal Park\, for a wonderful ski vacation! We will leave Portland on Monday
  late afternoon\, December 29\, and arrive Tuesday morning to (hopefully) 
 sparkling snow and the completely remodeled Loge Glacier (formerly Izaak W
 alton Inn) with new comfortable beds and private bathrooms. From Tuesday t
 hrough Thursday\, we will ski or snowshoe on the 30 km of groomed trails o
 r explore the backcountry in the Magnificent Dickey Bowl or possibly Maria
 s Pass and other trails. Relax in the Finnish sauna or Olympic-size hot tu
 b. Each night\, we can enjoy a gourmet meal in the restaurant\, read a goo
 d book by the fire\, participate in exciting ONC board games\, have a drin
 k in the bar\, or relax. A New Year’s Eve party is supposedly planned by
  Loge Glacier. On Thursday night\, January 1\, we will board the westbound
  overnight train back to Portland in the evening. As we pull back into the
  train station in Portland on Friday\, January 2\, you will wonder why you
  waited so long to take this trip.\n\nTrip limit:  18 participants includ
 ing trip leaders\nCost:  Singles - $525\, Couples - $995 (for 2 people in
  one bed)\; or Co-ed - $435 each (in a family room). Includes three days o
 f skiing (trail passes included!)\, Amtrak coach train transportation\, tw
 o nights lodging occupancy at the Loge Glacier. Meals on the train and at 
 Loge Glacier are available for purchase at an additional cost. Sleeper acc
 ommodations may also be available on Amtrak for an outlandish additional c
 ost – contact the leaders\nTravel miles:  Relax and ride the Empire Bui
 lder\nTrip Leader:  Ted Schienman\, tedskier@gmail.com\nCo-Leader: Rick G
 rote\, rgrote@gmail.com
CATEGORIES:Backcountry Ski/Telemarking,Cross Country Ski,Overnight Trips
END:VEVENT
BEGIN:VTIMEZONE
TZID:America/Los_Angeles
X-LIC-LOCATION:America/Los_Angeles
BEGIN:STANDARD
DTSTART:20251102T010000
TZOFFSETFROM:-0700
TZOFFSETTO:-0800
TZNAME:PST
END:STANDARD
END:VTIMEZONE
END:VCALENDAR