BEGIN:VCALENDAR
VERSION:2.0
PRODID:-//wp-events-plugin.com//7.0.5//EN
TZID:America/Los_Angeles
X-WR-TIMEZONE:America/Los_Angeles
BEGIN:VEVENT
UID:1232@onc-pdx.org
DTSTART;TZID=America/Los_Angeles:20250321T090000
DTEND;TZID=America/Los_Angeles:20250321T170000
DTSTAMP:20250314T171758Z
URL:https://onc-pdx.org/events/fun-all-day-from-timberline/
SUMMARY:Fun All Day From Timberline
DESCRIPTION:Trip rating:  Intermediate-Advanced\n\nWe will meet at The Ope
 rations Center Park &amp\; Ride-11610 Champion Way Sandy\, OR at 9:00am to
  catch the bus to Timberline.  Bus leaves at 9:15 and you must have $5.00
  cash for a round trip fare.\n\nFrom Timberline we will ski down West Leg 
 bypass to Government Camp. We will have lunch in Government Camp. You can 
 bring your lunch or buy food at Timberline Summit Pass. If conditions are 
 good\, after lunch we can continue our adventure and ski down Crosstown tr
 ail to Maggie's trail to Lucy's trail.  That will bring us out on to Gove
 rnment Camp Loop Rd. were we will get back on the bus to take us to our ca
 rs.  We will have the option of taking the 2:13 or the 4:13 bus back to o
 ur cars. We can wait for the bus at one of the fine local establishments a
 nd enjoy a beverage of your choice. Basically a no stress day on the mount
 ain.\n\nTour Leader:  Johanna Lovell\, joeielove@yahoo.com\, 607-422-6794
 \nCo-Leader:  Kacey Jones\, kcj14@aol.com
CATEGORIES:Cross Country Ski,Day Tours
LOCATION:\, \, 
X-APPLE-STRUCTURED-LOCATION;VALUE=URI;X-ADDRESS=\, ;X-APPLE-RADIUS=100;X-TI
 TLE=:geo:0,0
END:VEVENT
BEGIN:VTIMEZONE
TZID:America/Los_Angeles
X-LIC-LOCATION:America/Los_Angeles
BEGIN:DAYLIGHT
DTSTART:20250309T030000
TZOFFSETFROM:-0800
TZOFFSETTO:-0700
TZNAME:PDT
END:DAYLIGHT
END:VTIMEZONE
END:VCALENDAR