BEGIN:VCALENDAR
VERSION:2.0
PRODID:-//wp-events-plugin.com//7.0.5//EN
TZID:America/Los_Angeles
X-WR-TIMEZONE:America/Los_Angeles
BEGIN:VEVENT
UID:1231@onc-pdx.org
DTSTART;TZID=America/Los_Angeles:20250316T083000
DTEND;TZID=America/Los_Angeles:20250316T170000
DTSTAMP:20250315T023957Z
URL:https://onc-pdx.org/events/full-yellow-jacket/
SUMMARY:Full Yellow Jacket
DESCRIPTION:This Advanced BC Nordic ski tour is a classic. As Klindt Vielbi
 g says in his route description\, "the Yellowjacket Trail is a challenge a
 gainst which to judge your skiing skills\, for most of them will surely be
  required before the tour is ended. If you can ski this trail with aplomb\
 , you may consider yourself an advanced skier."\n\nPlanned route is an out
  and back the full length of the Yellow Jacket Trail\, approx 12 miles tot
 al- 6 out\, 6 back.\n\nRequired gear: Backcountry Nordic skis - wider than
  65 mm\, metal edges\, with kicker or full length skins\n\nTrip plan:\n\n 
 	Meet inside Mazama lodge 8:30am.\n 	Head out on skis 9am.\n 	Mile 2.3: We
 'll check in at the West Yellowjacket/East Yellowjacket trail junction\, t
 his is a possible bail out/early return loop point.\n 	Mile 5.9: Planned t
 urnaround point is the PCT trail junction just above White River West - th
 is is another potential bail out point (beg a ride back?)\n 	Return the wa
 y we came\, with slight variation at the end-\n 	Mile 9.5: take the Tie Tr
 ail from the West/East junction to descend via the West Leg road.\n 	Mile 
 ~12: Back to lodge by 4pm.\n\nTour Leader:  Lindsey Addison\nContact:  l
 indsey.addison@gmail.com\, 608-443-6541
CATEGORIES:Backcountry Ski/Telemarking,Cross Country Ski,Day Tours
LOCATION:Mazama Lodge\, 30500 W Leg Rd.\, Government Camp\, OR\, 97028\, Un
 ited States
X-APPLE-STRUCTURED-LOCATION;VALUE=URI;X-ADDRESS=30500 W Leg Rd.\, Governmen
 t Camp\, OR\, 97028\, United States;X-APPLE-RADIUS=100;X-TITLE=Mazama Lodg
 e:geo:0,0
END:VEVENT
BEGIN:VTIMEZONE
TZID:America/Los_Angeles
X-LIC-LOCATION:America/Los_Angeles
BEGIN:DAYLIGHT
DTSTART:20250309T030000
TZOFFSETFROM:-0800
TZOFFSETTO:-0700
TZNAME:PDT
END:DAYLIGHT
END:VTIMEZONE
END:VCALENDAR