BEGIN:VCALENDAR
VERSION:2.0
PRODID:-//wp-events-plugin.com//7.0.5//EN
TZID:America/Los_Angeles
X-WR-TIMEZONE:America/Los_Angeles
BEGIN:VEVENT
UID:809@onc-pdx.org
DTSTART;TZID=America/Los_Angeles:20210129T090000
DTEND;TZID=America/Los_Angeles:20210129T170000
DTSTAMP:20210125T173907Z
URL:https://onc-pdx.org/events/friday-fun-day-tour/
SUMMARY:Friday Fun Day Tour
DESCRIPTION:The weather forecast is for snow most of this week\, so let's f
 inally have a day ski tour! When we meet at the Gateway Park and Ride at 9
  AM sharp! We will select the area to ski\, based on group consensus. Plea
 se be sure you have read and "signed" the Club's Covid-19 Policy wavier\, 
 before meeting.\n\nQuestions? Leader: Ted Scheinman   503-914-9584
CATEGORIES:Cross Country Ski
LOCATION:\, \, 
X-APPLE-STRUCTURED-LOCATION;VALUE=URI;X-ADDRESS=\, ;X-APPLE-RADIUS=100;X-TI
 TLE=:geo:0,0
END:VEVENT
BEGIN:VTIMEZONE
TZID:America/Los_Angeles
X-LIC-LOCATION:America/Los_Angeles
BEGIN:STANDARD
DTSTART:20201101T010000
TZOFFSETFROM:-0700
TZOFFSETTO:-0800
TZNAME:PST
END:STANDARD
END:VTIMEZONE
END:VCALENDAR