BEGIN:VCALENDAR
VERSION:2.0
PRODID:-//wp-events-plugin.com//7.0.5//EN
TZID:America/Los_Angeles
X-WR-TIMEZONE:America/Los_Angeles
BEGIN:VEVENT
UID:807@onc-pdx.org
DTSTART;TZID=America/Los_Angeles:20210202T190000
DTEND;TZID=America/Los_Angeles:20210202T210000
DTSTAMP:20210129T054850Z
URL:https://onc-pdx.org/events/february-meeting-travels-in-ecuador-and-cli
 mbing-chimboazo/
SUMMARY:February Meeting: Travels in Ecuador and Climbing Chimborazo
DESCRIPTION:ONC-PDX Monthly Meeting\nTravels in Ecuador\, and climbing 20\,
 000 foot Chimborazo: By some measures\, the tallest mountain in the world!
 \n\nWhen: Tuesday February 2nd\, 7pm – 9pm. 7pm members share about skii
 ng\, 7:30 pm program. \nWhere: Zoom! Members will receive the link by ema
 il\n\nPresenter: Josh Lawrence\n\nEcuador Adventures: Cuy\, karaoke\, Quit
 o\, Cuenca and Climbing Chimborazo\n\nNew ONC member Josh Lawrence will ta
 lk about his travels in Ecuador\, and his attempts to climb 20\,549 foot C
 himborazo. You’ll learn a lot about the food\, the drink\, the people\, 
 the towns of Quito and Cuenca\, and the stability of the snowpack at 19\,0
 00 feet! In addition to the climb\, the talk will include tips on getting 
 around in beautiful Ecuador\, a country that is definitely worth a visit o
 nce we’re allowed to travel again.\n\nProgram Flier\n\n
CATEGORIES:Meeting
END:VEVENT
BEGIN:VTIMEZONE
TZID:America/Los_Angeles
X-LIC-LOCATION:America/Los_Angeles
BEGIN:STANDARD
DTSTART:20201101T010000
TZOFFSETFROM:-0700
TZOFFSETTO:-0800
TZNAME:PST
END:STANDARD
END:VTIMEZONE
END:VCALENDAR