BEGIN:VCALENDAR
VERSION:2.0
PRODID:-//wp-events-plugin.com//7.0.5//EN
TZID:America/Los_Angeles
X-WR-TIMEZONE:America/Los_Angeles
BEGIN:VEVENT
UID:1214@onc-pdx.org
DTSTART;TZID=America/Los_Angeles:20250208T080000
DTEND;TZID=America/Los_Angeles:20250208T170000
DTSTAMP:20250205T230152Z
URL:https://onc-pdx.org/events/easy-choice-for-hard-times/
SUMMARY:Easy Choice for Hard Times
DESCRIPTION:This should be a pleasant intermediate ski as we take on the Ha
 rd Time loop in Washington. The tour is not that technical. With good snow
  and a freshly groomed surface we should make quick time on this 11 mile l
 oop. However\, with fresh snow and no grooming it can be much more of a ch
 allenge (in this case we’ll need to rotate the lead).\n\nLeader: Scott D
 iamond\nEmail: scott.diamond.mail@gmail.com\nDogs allowed: No\nCost: Plan 
 on $15-$20/skier for carpool cost
CATEGORIES:Cross Country Ski,Day Tours
LOCATION:Oldtown Troutdale (next to railroad tracks)\, 101 Historic Columbi
 a River Hwy.\, Troutdale\, OR\, 97060\, United States
X-APPLE-STRUCTURED-LOCATION;VALUE=URI;X-ADDRESS=101 Historic Columbia River
  Hwy.\, Troutdale\, OR\, 97060\, United States;X-APPLE-RADIUS=100;X-TITLE=
 Oldtown Troutdale (next to railroad tracks):geo:0,0
END:VEVENT
BEGIN:VTIMEZONE
TZID:America/Los_Angeles
X-LIC-LOCATION:America/Los_Angeles
BEGIN:STANDARD
DTSTART:20241103T010000
TZOFFSETFROM:-0700
TZOFFSETTO:-0800
TZNAME:PST
END:STANDARD
END:VTIMEZONE
END:VCALENDAR